| Back to Multiple platform build/check report for BioC 3.9 |
|
This page was generated on 2019-04-09 13:31:47 -0400 (Tue, 09 Apr 2019).
| Package 802/1703 | Hostname | OS / Arch | INSTALL | BUILD | CHECK | BUILD BIN | ||||||
| INSPEcT 1.13.15 Stefano de Pretis
| malbec2 | Linux (Ubuntu 18.04.2 LTS) / x86_64 | OK | OK | OK | |||||||
| tokay2 | Windows Server 2012 R2 Standard / x64 | OK | OK | OK | OK | |||||||
| celaya2 | OS X 10.11.6 El Capitan / x86_64 | OK | OK | OK | OK | |||||||
| merida2 | OS X 10.11.6 El Capitan / x86_64 | OK | OK | OK | [ OK ] |
| Package: INSPEcT |
| Version: 1.13.15 |
| Command: rm -rf INSPEcT.buildbin-libdir && mkdir INSPEcT.buildbin-libdir && /Users/biocbuild/BBS/utils/build-universal.sh INSPEcT_1.13.15.tar.gz /Library/Frameworks/R.framework/Versions/Current/Resources/bin/R INSPEcT.buildbin-libdir |
| StartedAt: 2019-04-09 05:38:32 -0400 (Tue, 09 Apr 2019) |
| EndedAt: 2019-04-09 05:39:52 -0400 (Tue, 09 Apr 2019) |
| EllapsedTime: 79.8 seconds |
| RetCode: 0 |
| Status: OK |
| PackageFile: INSPEcT_1.13.15.tgz |
| PackageFileSize: 4.899 MiB |
############################################################################## ############################################################################## ### ### Running command: ### ### rm -rf INSPEcT.buildbin-libdir && mkdir INSPEcT.buildbin-libdir && /Users/biocbuild/BBS/utils/build-universal.sh INSPEcT_1.13.15.tar.gz /Library/Frameworks/R.framework/Versions/Current/Resources/bin/R INSPEcT.buildbin-libdir ### ############################################################################## ############################################################################## >>>>>>> >>>>>>> INSTALLATION WITH 'R CMD INSTALL --preclean --no-multiarch --library=INSPEcT.buildbin-libdir INSPEcT_1.13.15.tar.gz' >>>>>>> * installing *source* package ‘INSPEcT’ ... ** R ** data ** inst ** byte-compile and prepare package for lazy loading ** help *** installing help indices ** building package indices ** installing vignettes ** testing if installed package can be loaded * DONE (INSPEcT)