| Back to Multiple platform build/check report for BioC 3.9 | 
 | 
This page was generated on 2019-04-09 12:24:39 -0400 (Tue, 09 Apr 2019).
| Package 746/1703 | Hostname | OS / Arch | INSTALL | BUILD | CHECK | BUILD BIN | ||||||
| HilbertCurve 1.13.2 Zuguang Gu 
 | malbec2 | Linux (Ubuntu 18.04.2 LTS) / x86_64 | OK | OK | OK |  | ||||||
| tokay2 | Windows Server 2012 R2 Standard / x64 | OK | OK | OK | [ OK ] |  | ||||||
| celaya2 | OS X 10.11.6 El Capitan / x86_64 | OK | OK | OK | OK |  | ||||||
| merida2 | OS X 10.11.6 El Capitan / x86_64 | OK | OK | OK | OK | 
| Package: HilbertCurve | 
| Version: 1.13.2 | 
| Command: rm -rf HilbertCurve.buildbin-libdir && mkdir HilbertCurve.buildbin-libdir && C:\Users\biocbuild\bbs-3.9-bioc\R\bin\R.exe CMD INSTALL --merge-multiarch --build --library=HilbertCurve.buildbin-libdir HilbertCurve_1.13.2.tar.gz | 
| StartedAt: 2019-04-09 08:13:38 -0400 (Tue, 09 Apr 2019) | 
| EndedAt: 2019-04-09 08:14:56 -0400 (Tue, 09 Apr 2019) | 
| EllapsedTime: 78.8 seconds | 
| RetCode: 0 | 
| Status: OK | 
| PackageFile: HilbertCurve_1.13.2.zip | 
| PackageFileSize: 5.739 MiB | 
##############################################################################
##############################################################################
###
### Running command:
###
###   rm -rf HilbertCurve.buildbin-libdir && mkdir HilbertCurve.buildbin-libdir && C:\Users\biocbuild\bbs-3.9-bioc\R\bin\R.exe CMD INSTALL --merge-multiarch --build --library=HilbertCurve.buildbin-libdir HilbertCurve_1.13.2.tar.gz
###
##############################################################################
##############################################################################
install for i386
* installing *source* package 'HilbertCurve' ...
** R
** inst
** byte-compile and prepare package for lazy loading
** help
*** installing help indices
  converting help for package 'HilbertCurve'
    finding HTML links ... done
    GenomicHilbertCurve-class               html  
    GenomicHilbertCurve                     html  
    HilbertCurve-class                      html  
    HilbertCurve                            html  
    default_overlay                         html  
    hc_centered_text-HilbertCurve-method    html  
    hc_layer-GenomicHilbertCurve-method     html  
    hc_layer-HilbertCurve-method            html  
    hc_layer-dispatch                       html  
    hc_level-HilbertCurve-method            html  
    hc_map-GenomicHilbertCurve-method       html  
    hc_normal_points-HilbertCurve-method    html  
    hc_offset-HilbertCurve-method           html  
    hc_png-HilbertCurve-method              html  
    hc_points-GenomicHilbertCurve-method    html  
    hc_points-HilbertCurve-method           html  
    hc_points-dispatch                      html  
    hc_polygon-GenomicHilbertCurve-method   html  
    hc_polygon-HilbertCurve-method          html  
    hc_polygon-dispatch                     html  
    hc_rect-GenomicHilbertCurve-method      html  
    hc_rect-HilbertCurve-method             html  
    hc_rect-dispatch                        html  
    hc_segmented_points-HilbertCurve-method
                                            html  
    hc_segments-GenomicHilbertCurve-method
                                            html  
    hc_segments-HilbertCurve-method         html  
    hc_segments-dispatch                    html  
    hc_text-GenomicHilbertCurve-method      html  
    hc_text-HilbertCurve-method             html  
    hc_text-dispatch                        html  
    show-HilbertCurve-method                html  
    unzoom-HilbertCurve-method              html  
    zoom-HilbertCurve-method                html  
** building package indices
** installing vignettes
** testing if installed package can be loaded from temporary location
** testing if installed package can be loaded from final location
** testing if installed package keeps a record of temporary installation path
install for x64
* installing *source* package 'HilbertCurve' ...
** testing if installed package can be loaded
* MD5 sums
packaged installation of 'HilbertCurve' as HilbertCurve_1.13.2.zip
* DONE (HilbertCurve)