| Back to Multiple platform build/check report for BioC 3.9 |
|
This page was generated on 2019-04-09 12:25:50 -0400 (Tue, 09 Apr 2019).
| Package 732/1703 | Hostname | OS / Arch | INSTALL | BUILD | CHECK | BUILD BIN | ||||||
| HDF5Array 1.11.11 Hervé Pagès
| malbec2 | Linux (Ubuntu 18.04.2 LTS) / x86_64 | OK | OK | WARNINGS | |||||||
| tokay2 | Windows Server 2012 R2 Standard / x64 | OK | OK | ERROR | [ OK ] | |||||||
| celaya2 | OS X 10.11.6 El Capitan / x86_64 | OK | OK | WARNINGS | OK | |||||||
| merida2 | OS X 10.11.6 El Capitan / x86_64 | OK | OK | WARNINGS | OK |
| Package: HDF5Array |
| Version: 1.11.11 |
| Command: rm -rf HDF5Array.buildbin-libdir && mkdir HDF5Array.buildbin-libdir && C:\Users\biocbuild\bbs-3.9-bioc\R\bin\R.exe CMD INSTALL --merge-multiarch --build --library=HDF5Array.buildbin-libdir HDF5Array_1.11.11.tar.gz |
| StartedAt: 2019-04-09 08:11:17 -0400 (Tue, 09 Apr 2019) |
| EndedAt: 2019-04-09 08:14:36 -0400 (Tue, 09 Apr 2019) |
| EllapsedTime: 199.2 seconds |
| RetCode: 0 |
| Status: OK |
| PackageFile: HDF5Array_1.11.11.zip |
| PackageFileSize: 10.78 MiB |
##############################################################################
##############################################################################
###
### Running command:
###
### rm -rf HDF5Array.buildbin-libdir && mkdir HDF5Array.buildbin-libdir && C:\Users\biocbuild\bbs-3.9-bioc\R\bin\R.exe CMD INSTALL --merge-multiarch --build --library=HDF5Array.buildbin-libdir HDF5Array_1.11.11.tar.gz
###
##############################################################################
##############################################################################
install for i386
* installing *source* package 'HDF5Array' ...
** libs
C:/Rtools/mingw_32/bin/gcc -I"C:/Users/BIOCBU˜1/BBS-3˜1.9-B/R/include" -DNDEBUG -I"C:/Users/biocbuild/bbs-3.9-bioc/R/library/S4Vectors/include" -I"C:/Users/biocbuild/bbs-3.9-bioc/R/library/Rhdf5lib/include" -I"C:/extsoft/include" -O3 -Wall -std=gnu99 -mtune=generic -c DSet.c -o DSet.o
DSet.c: In function '_get_DSet':
DSet.c:266:7: warning: 'storage_mode_attr' may be used uninitialized in this function [-Wmaybe-uninitialized]
if (map_storage_mode_to_Rtype(storage_mode_attr, as_int,
^
C:/Rtools/mingw_32/bin/gcc -I"C:/Users/BIOCBU˜1/BBS-3˜1.9-B/R/include" -DNDEBUG -I"C:/Users/biocbuild/bbs-3.9-bioc/R/library/S4Vectors/include" -I"C:/Users/biocbuild/bbs-3.9-bioc/R/library/Rhdf5lib/include" -I"C:/extsoft/include" -O3 -Wall -std=gnu99 -mtune=generic -c R_init_HDF5Array.c -o R_init_HDF5Array.o
C:/Rtools/mingw_32/bin/gcc -I"C:/Users/BIOCBU˜1/BBS-3˜1.9-B/R/include" -DNDEBUG -I"C:/Users/biocbuild/bbs-3.9-bioc/R/library/S4Vectors/include" -I"C:/Users/biocbuild/bbs-3.9-bioc/R/library/Rhdf5lib/include" -I"C:/extsoft/include" -O3 -Wall -std=gnu99 -mtune=generic -c S4Vectors_stubs.c -o S4Vectors_stubs.o
C:/Rtools/mingw_32/bin/gcc -I"C:/Users/BIOCBU˜1/BBS-3˜1.9-B/R/include" -DNDEBUG -I"C:/Users/biocbuild/bbs-3.9-bioc/R/library/S4Vectors/include" -I"C:/Users/biocbuild/bbs-3.9-bioc/R/library/Rhdf5lib/include" -I"C:/extsoft/include" -O3 -Wall -std=gnu99 -mtune=generic -c array_selection.c -o array_selection.o
C:/Rtools/mingw_32/bin/gcc -I"C:/Users/BIOCBU˜1/BBS-3˜1.9-B/R/include" -DNDEBUG -I"C:/Users/biocbuild/bbs-3.9-bioc/R/library/S4Vectors/include" -I"C:/Users/biocbuild/bbs-3.9-bioc/R/library/Rhdf5lib/include" -I"C:/extsoft/include" -O3 -Wall -std=gnu99 -mtune=generic -c h5mread.c -o h5mread.o
h5mread.c:1188:22: warning: 'select_elements_from_chunk' defined but not used [-Wunused-function]
static long long int select_elements_from_chunk(const DSet *dset,
^
C:/Rtools/mingw_32/bin/gcc -shared -s -static-libgcc -o HDF5Array.dll tmp.def DSet.o R_init_HDF5Array.o S4Vectors_stubs.o array_selection.o h5mread.o -LC:/Users/BIOCBU˜1/BBS-3˜1.9-B/R/library/Rhdf5lib/lib/i386 -lhdf5 -lszip -lz -lpsapi -LC:/extsoft/lib/i386 -LC:/extsoft/lib -LC:/Users/BIOCBU˜1/BBS-3˜1.9-B/R/bin/i386 -lR
installing to C:/Users/biocbuild/bbs-3.9-bioc/meat/HDF5Array.buildbin-libdir/00LOCK-HDF5Array/00new/HDF5Array/libs/i386
** R
** inst
** byte-compile and prepare package for lazy loading
** help
*** installing help indices
converting help for package 'HDF5Array'
finding HTML links ... done
HDF5Array-class html
Rd warning: C:/Users/biocbuild/bbs-3.9-bioc/tmpdir/RtmpMhwmXY/R.INSTALL21a02db11a2b/HDF5Array/man/HDF5Array-class.Rd:22: file link 'DelayedArray' in package 'DelayedArray' does not exist and so has been treated as a topic
Rd warning: C:/Users/biocbuild/bbs-3.9-bioc/tmpdir/RtmpMhwmXY/R.INSTALL21a02db11a2b/HDF5Array/man/HDF5Array-class.Rd:25: file link 'DelayedArray' in package 'DelayedArray' does not exist and so has been treated as a topic
Rd warning: C:/Users/biocbuild/bbs-3.9-bioc/tmpdir/RtmpMhwmXY/R.INSTALL21a02db11a2b/HDF5Array/man/HDF5Array-class.Rd:67: file link 'DelayedMatrix' in package 'DelayedArray' does not exist and so has been treated as a topic
Rd warning: C:/Users/biocbuild/bbs-3.9-bioc/tmpdir/RtmpMhwmXY/R.INSTALL21a02db11a2b/HDF5Array/man/HDF5Array-class.Rd:69: file link 'DelayedArray' in package 'DelayedArray' does not exist and so has been treated as a topic
Rd warning: C:/Users/biocbuild/bbs-3.9-bioc/tmpdir/RtmpMhwmXY/R.INSTALL21a02db11a2b/HDF5Array/man/HDF5Array-class.Rd:81: file link 'SummarizedExperiment' in package 'SummarizedExperiment' does not exist and so has been treated as a topic
HDF5ArraySeed-class html
Rd warning: C:/Users/biocbuild/bbs-3.9-bioc/tmpdir/RtmpMhwmXY/R.INSTALL21a02db11a2b/HDF5Array/man/HDF5ArraySeed-class.Rd:37: file link 'DelayedArray' in package 'DelayedArray' does not exist and so has been treated as a topic
Rd warning: C:/Users/biocbuild/bbs-3.9-bioc/tmpdir/RtmpMhwmXY/R.INSTALL21a02db11a2b/HDF5Array/man/HDF5ArraySeed-class.Rd:40: file link 'DelayedArray' in package 'DelayedArray' does not exist and so has been treated as a topic
TENxMatrix-class html
Rd warning: C:/Users/biocbuild/bbs-3.9-bioc/tmpdir/RtmpMhwmXY/R.INSTALL21a02db11a2b/HDF5Array/man/TENxMatrix-class.Rd:26: file link 'DelayedMatrix' in package 'DelayedArray' does not exist and so has been treated as a topic
Rd warning: C:/Users/biocbuild/bbs-3.9-bioc/tmpdir/RtmpMhwmXY/R.INSTALL21a02db11a2b/HDF5Array/man/TENxMatrix-class.Rd:30: file link 'DelayedMatrix' in package 'DelayedArray' does not exist and so has been treated as a topic
Rd warning: C:/Users/biocbuild/bbs-3.9-bioc/tmpdir/RtmpMhwmXY/R.INSTALL21a02db11a2b/HDF5Array/man/TENxMatrix-class.Rd:65: file link 'NumericList' in package 'IRanges' does not exist and so has been treated as a topic
Rd warning: C:/Users/biocbuild/bbs-3.9-bioc/tmpdir/RtmpMhwmXY/R.INSTALL21a02db11a2b/HDF5Array/man/TENxMatrix-class.Rd:66: file link 'IntegerList' in package 'IRanges' does not exist and so has been treated as a topic
Rd warning: C:/Users/biocbuild/bbs-3.9-bioc/tmpdir/RtmpMhwmXY/R.INSTALL21a02db11a2b/HDF5Array/man/TENxMatrix-class.Rd:84: file link 'DelayedArray' in package 'DelayedArray' does not exist and so has been treated as a topic
Rd warning: C:/Users/biocbuild/bbs-3.9-bioc/tmpdir/RtmpMhwmXY/R.INSTALL21a02db11a2b/HDF5Array/man/TENxMatrix-class.Rd:86: file link 'DelayedMatrix' in package 'DelayedArray' does not exist and so has been treated as a topic
Rd warning: C:/Users/biocbuild/bbs-3.9-bioc/tmpdir/RtmpMhwmXY/R.INSTALL21a02db11a2b/HDF5Array/man/TENxMatrix-class.Rd:98: file link 'setAutoBPPARAM' in package 'DelayedArray' does not exist and so has been treated as a topic
Rd warning: C:/Users/biocbuild/bbs-3.9-bioc/tmpdir/RtmpMhwmXY/R.INSTALL21a02db11a2b/HDF5Array/man/TENxMatrix-class.Rd:99: file link 'setAutoBlockSize' in package 'DelayedArray' does not exist and so has been treated as a topic
Rd warning: C:/Users/biocbuild/bbs-3.9-bioc/tmpdir/RtmpMhwmXY/R.INSTALL21a02db11a2b/HDF5Array/man/TENxMatrix-class.Rd:102: file link 'colGrid' in package 'DelayedArray' does not exist and so has been treated as a topic
Rd warning: C:/Users/biocbuild/bbs-3.9-bioc/tmpdir/RtmpMhwmXY/R.INSTALL21a02db11a2b/HDF5Array/man/TENxMatrix-class.Rd:103: file link 'blockApply' in package 'DelayedArray' does not exist and so has been treated as a topic
Rd warning: C:/Users/biocbuild/bbs-3.9-bioc/tmpdir/RtmpMhwmXY/R.INSTALL21a02db11a2b/HDF5Array/man/TENxMatrix-class.Rd:110: file link 'NumericList' in package 'IRanges' does not exist and so has been treated as a topic
Rd warning: C:/Users/biocbuild/bbs-3.9-bioc/tmpdir/RtmpMhwmXY/R.INSTALL21a02db11a2b/HDF5Array/man/TENxMatrix-class.Rd:110: file link 'IntegerList' in package 'IRanges' does not exist and so has been treated as a topic
TENxMatrixSeed-class html
Rd warning: C:/Users/biocbuild/bbs-3.9-bioc/tmpdir/RtmpMhwmXY/R.INSTALL21a02db11a2b/HDF5Array/man/TENxMatrixSeed-class.Rd:49: file link 'DelayedMatrix' in package 'DelayedArray' does not exist and so has been treated as a topic
Rd warning: C:/Users/biocbuild/bbs-3.9-bioc/tmpdir/RtmpMhwmXY/R.INSTALL21a02db11a2b/HDF5Array/man/TENxMatrixSeed-class.Rd:52: file link 'DelayedMatrix' in package 'DelayedArray' does not exist and so has been treated as a topic
dump-management html
finding level-2 HTML links ... done
Rd warning: C:/Users/biocbuild/bbs-3.9-bioc/tmpdir/RtmpMhwmXY/R.INSTALL21a02db11a2b/HDF5Array/man/dump-management.Rd:123: file link 'type' in package 'DelayedArray' does not exist and so has been treated as a topic
Rd warning: C:/Users/biocbuild/bbs-3.9-bioc/tmpdir/RtmpMhwmXY/R.INSTALL21a02db11a2b/HDF5Array/man/dump-management.Rd:216: file link 'type' in package 'DelayedArray' does not exist and so has been treated as a topic
h5mread html
Rd warning: C:/Users/biocbuild/bbs-3.9-bioc/tmpdir/RtmpMhwmXY/R.INSTALL21a02db11a2b/HDF5Array/man/h5mread.Rd:53: file link 'h5read' in package 'rhdf5' does not exist and so has been treated as a topic
Rd warning: C:/Users/biocbuild/bbs-3.9-bioc/tmpdir/RtmpMhwmXY/R.INSTALL21a02db11a2b/HDF5Array/man/h5mread.Rd:55: file link 'h5read' in package 'rhdf5' does not exist and so has been treated as a topic
Rd warning: C:/Users/biocbuild/bbs-3.9-bioc/tmpdir/RtmpMhwmXY/R.INSTALL21a02db11a2b/HDF5Array/man/h5mread.Rd:90: file link 'h5read' in package 'rhdf5' does not exist and so has been treated as a topic
Rd warning: C:/Users/biocbuild/bbs-3.9-bioc/tmpdir/RtmpMhwmXY/R.INSTALL21a02db11a2b/HDF5Array/man/h5mread.Rd:92: file link 'type' in package 'DelayedArray' does not exist and so has been treated as a topic
saveHDF5SummarizedExperiment html
Rd warning: C:/Users/biocbuild/bbs-3.9-bioc/tmpdir/RtmpMhwmXY/R.INSTALL21a02db11a2b/HDF5Array/man/saveHDF5SummarizedExperiment.Rd:12: file link 'SummarizedExperiment' in package 'SummarizedExperiment' does not exist and so has been treated as a topic
Rd warning: C:/Users/biocbuild/bbs-3.9-bioc/tmpdir/RtmpMhwmXY/R.INSTALL21a02db11a2b/HDF5Array/man/saveHDF5SummarizedExperiment.Rd:26: file link 'SummarizedExperiment' in package 'SummarizedExperiment' does not exist and so has been treated as a topic
Rd warning: C:/Users/biocbuild/bbs-3.9-bioc/tmpdir/RtmpMhwmXY/R.INSTALL21a02db11a2b/HDF5Array/man/saveHDF5SummarizedExperiment.Rd:34: file link 'SummarizedExperiment' in package 'SummarizedExperiment' does not exist and so has been treated as a topic
Rd warning: C:/Users/biocbuild/bbs-3.9-bioc/tmpdir/RtmpMhwmXY/R.INSTALL21a02db11a2b/HDF5Array/man/saveHDF5SummarizedExperiment.Rd:108: file link 'SummarizedExperiment' in package 'SummarizedExperiment' does not exist and so has been treated as a topic
Rd warning: C:/Users/biocbuild/bbs-3.9-bioc/tmpdir/RtmpMhwmXY/R.INSTALL21a02db11a2b/HDF5Array/man/saveHDF5SummarizedExperiment.Rd:127: file link 'SummarizedExperiment' in package 'SummarizedExperiment' does not exist and so has been treated as a topic
Rd warning: C:/Users/biocbuild/bbs-3.9-bioc/tmpdir/RtmpMhwmXY/R.INSTALL21a02db11a2b/HDF5Array/man/saveHDF5SummarizedExperiment.Rd:128: file link 'RangedSummarizedExperiment' in package 'SummarizedExperiment' does not exist and so has been treated as a topic
writeHDF5Array html
Rd warning: C:/Users/biocbuild/bbs-3.9-bioc/tmpdir/RtmpMhwmXY/R.INSTALL21a02db11a2b/HDF5Array/man/writeHDF5Array.Rd:111: file link 'SummarizedExperiment' in package 'SummarizedExperiment' does not exist and so has been treated as a topic
writeTENxMatrix html
** building package indices
** testing if installed package can be loaded from temporary location
** testing if installed package can be loaded from final location
** testing if installed package keeps a record of temporary installation path
install for x64
* installing *source* package 'HDF5Array' ...
** libs
C:/Rtools/mingw_64/bin/gcc -I"C:/Users/BIOCBU˜1/BBS-3˜1.9-B/R/include" -DNDEBUG -I"C:/Users/biocbuild/bbs-3.9-bioc/R/library/S4Vectors/include" -I"C:/Users/biocbuild/bbs-3.9-bioc/R/library/Rhdf5lib/include" -I"C:/extsoft/include" -O2 -Wall -std=gnu99 -mtune=generic -c DSet.c -o DSet.o
DSet.c: In function '_get_DSet':
DSet.c:100:6: warning: 'storage_mode_attr' may be used uninitialized in this function [-Wmaybe-uninitialized]
if (strcmp(storage_mode, "integer") == 0) {
^
DSet.c:208:8: note: 'storage_mode_attr' was declared here
char *storage_mode_attr;
^
C:/Rtools/mingw_64/bin/gcc -I"C:/Users/BIOCBU˜1/BBS-3˜1.9-B/R/include" -DNDEBUG -I"C:/Users/biocbuild/bbs-3.9-bioc/R/library/S4Vectors/include" -I"C:/Users/biocbuild/bbs-3.9-bioc/R/library/Rhdf5lib/include" -I"C:/extsoft/include" -O2 -Wall -std=gnu99 -mtune=generic -c R_init_HDF5Array.c -o R_init_HDF5Array.o
C:/Rtools/mingw_64/bin/gcc -I"C:/Users/BIOCBU˜1/BBS-3˜1.9-B/R/include" -DNDEBUG -I"C:/Users/biocbuild/bbs-3.9-bioc/R/library/S4Vectors/include" -I"C:/Users/biocbuild/bbs-3.9-bioc/R/library/Rhdf5lib/include" -I"C:/extsoft/include" -O2 -Wall -std=gnu99 -mtune=generic -c S4Vectors_stubs.c -o S4Vectors_stubs.o
C:/Rtools/mingw_64/bin/gcc -I"C:/Users/BIOCBU˜1/BBS-3˜1.9-B/R/include" -DNDEBUG -I"C:/Users/biocbuild/bbs-3.9-bioc/R/library/S4Vectors/include" -I"C:/Users/biocbuild/bbs-3.9-bioc/R/library/Rhdf5lib/include" -I"C:/extsoft/include" -O2 -Wall -std=gnu99 -mtune=generic -c array_selection.c -o array_selection.o
C:/Rtools/mingw_64/bin/gcc -I"C:/Users/BIOCBU˜1/BBS-3˜1.9-B/R/include" -DNDEBUG -I"C:/Users/biocbuild/bbs-3.9-bioc/R/library/S4Vectors/include" -I"C:/Users/biocbuild/bbs-3.9-bioc/R/library/Rhdf5lib/include" -I"C:/extsoft/include" -O2 -Wall -std=gnu99 -mtune=generic -c h5mread.c -o h5mread.o
h5mread.c:1188:22: warning: 'select_elements_from_chunk' defined but not used [-Wunused-function]
static long long int select_elements_from_chunk(const DSet *dset,
^
C:/Rtools/mingw_64/bin/gcc -shared -s -static-libgcc -o HDF5Array.dll tmp.def DSet.o R_init_HDF5Array.o S4Vectors_stubs.o array_selection.o h5mread.o -LC:/Users/BIOCBU˜1/BBS-3˜1.9-B/R/library/Rhdf5lib/lib/x64 -lhdf5 -lszip -lz -lpsapi -LC:/extsoft/lib/x64 -LC:/extsoft/lib -LC:/Users/BIOCBU˜1/BBS-3˜1.9-B/R/bin/x64 -lR
installing to C:/Users/biocbuild/bbs-3.9-bioc/meat/HDF5Array.buildbin-libdir/HDF5Array/libs/x64
** testing if installed package can be loaded
* MD5 sums
packaged installation of 'HDF5Array' as HDF5Array_1.11.11.zip
* DONE (HDF5Array)