| Back to Multiple platform build/check report for BioC 3.9 | 
 | 
This page was generated on 2019-04-09 12:45:09 -0400 (Tue, 09 Apr 2019).
| Package 410/1703 | Hostname | OS / Arch | INSTALL | BUILD | CHECK | BUILD BIN | ||||||
| DepecheR 0.99.31 Jakob Theorell 
 | malbec2 | Linux (Ubuntu 18.04.2 LTS) / x86_64 | OK | OK | OK |  | ||||||
| tokay2 | Windows Server 2012 R2 Standard / x64 | OK | [ OK ] | OK | OK |  | ||||||
| celaya2 | OS X 10.11.6 El Capitan / x86_64 | OK | OK | OK | OK |  | ||||||
| merida2 | OS X 10.11.6 El Capitan / x86_64 | OK | OK | OK | OK | 
| Package: DepecheR | 
| Version: 0.99.31 | 
| Command: chmod a+r DepecheR -R && C:\Users\biocbuild\bbs-3.9-bioc\R\bin\R.exe CMD build --keep-empty-dirs --no-resave-data DepecheR | 
| StartedAt: 2019-04-09 00:49:19 -0400 (Tue, 09 Apr 2019) | 
| EndedAt: 2019-04-09 00:50:28 -0400 (Tue, 09 Apr 2019) | 
| EllapsedTime: 68.9 seconds | 
| RetCode: 0 | 
| Status: OK | 
| PackageFile: DepecheR_0.99.31.tar.gz | 
| PackageFileSize: 2.142 MiB | 
############################################################################## ############################################################################## ### ### Running command: ### ### chmod a+r DepecheR -R && C:\Users\biocbuild\bbs-3.9-bioc\R\bin\R.exe CMD build --keep-empty-dirs --no-resave-data DepecheR ### ############################################################################## ############################################################################## * checking for file 'DepecheR/DESCRIPTION' ... OK * preparing 'DepecheR': * checking DESCRIPTION meta-information ... OK * cleaning src * installing the package to build vignettes * creating vignettes ... OK * cleaning src * checking for LF line-endings in source and make files and shell scripts * checking for empty or unneeded directories * looking to see if a 'data/datalist' file should be added * building 'DepecheR_0.99.31.tar.gz'