| Back to Multiple platform build/check report for BioC 3.9 |
|
This page was generated on 2019-04-09 13:25:54 -0400 (Tue, 09 Apr 2019).
| Package 421/1703 | Hostname | OS / Arch | INSTALL | BUILD | CHECK | BUILD BIN | ||||||
| DEXSeq 1.29.10 Alejandro Reyes
| malbec2 | Linux (Ubuntu 18.04.2 LTS) / x86_64 | OK | OK | OK | |||||||
| tokay2 | Windows Server 2012 R2 Standard / x64 | OK | OK | OK | OK | |||||||
| celaya2 | OS X 10.11.6 El Capitan / x86_64 | OK | OK | OK | OK | |||||||
| merida2 | OS X 10.11.6 El Capitan / x86_64 | OK | OK | [ OK ] | OK |
| Package: DEXSeq |
| Version: 1.29.10 |
| Command: /Library/Frameworks/R.framework/Versions/Current/Resources/bin/R CMD check --install=check:DEXSeq.install-out.txt --library=/Library/Frameworks/R.framework/Versions/Current/Resources/library --no-vignettes --timings DEXSeq_1.29.10.tar.gz |
| StartedAt: 2019-04-09 00:26:52 -0400 (Tue, 09 Apr 2019) |
| EndedAt: 2019-04-09 00:31:34 -0400 (Tue, 09 Apr 2019) |
| EllapsedTime: 282.1 seconds |
| RetCode: 0 |
| Status: OK |
| CheckDir: DEXSeq.Rcheck |
| Warnings: 0 |
##############################################################################
##############################################################################
###
### Running command:
###
### /Library/Frameworks/R.framework/Versions/Current/Resources/bin/R CMD check --install=check:DEXSeq.install-out.txt --library=/Library/Frameworks/R.framework/Versions/Current/Resources/library --no-vignettes --timings DEXSeq_1.29.10.tar.gz
###
##############################################################################
##############################################################################
* using log directory ‘/Users/biocbuild/bbs-3.9-bioc/meat/DEXSeq.Rcheck’
* using R Under development (unstable) (2018-11-27 r75683)
* using platform: x86_64-apple-darwin15.6.0 (64-bit)
* using session charset: UTF-8
* using option ‘--no-vignettes’
* checking for file ‘DEXSeq/DESCRIPTION’ ... OK
* this is package ‘DEXSeq’ version ‘1.29.10’
* checking package namespace information ... OK
* checking package dependencies ... NOTE
Depends: includes the non-default packages:
'BiocParallel', 'Biobase', 'SummarizedExperiment', 'IRanges',
'GenomicRanges', 'DESeq2', 'AnnotationDbi', 'RColorBrewer',
'S4Vectors'
Adding so many packages to the search path is excessive and importing
selectively is preferable.
* checking if this is a source package ... OK
* checking if there is a namespace ... OK
* checking for hidden files and directories ... OK
* checking for portable file names ... OK
* checking for sufficient/correct file permissions ... OK
* checking whether package ‘DEXSeq’ can be installed ... OK
* checking installed package size ... OK
* checking package directory ... OK
* checking ‘build’ directory ... OK
* checking DESCRIPTION meta-information ... OK
* checking top-level files ... OK
* checking for left-over files ... OK
* checking index information ... OK
* checking package subdirectories ... OK
* checking R files for non-ASCII characters ... OK
* checking R files for syntax errors ... OK
* checking whether the package can be loaded ... OK
* checking whether the package can be loaded with stated dependencies ... OK
* checking whether the package can be unloaded cleanly ... OK
* checking whether the namespace can be loaded with stated dependencies ... OK
* checking whether the namespace can be unloaded cleanly ... OK
* checking dependencies in R code ... OK
* checking S3 generic/method consistency ... OK
* checking replacement functions ... OK
* checking foreign function calls ... OK
* checking R code for possible problems ... OK
* checking Rd files ... OK
* checking Rd metadata ... OK
* checking Rd cross-references ... OK
* checking for missing documentation entries ... OK
* checking for code/documentation mismatches ... OK
* checking Rd \usage sections ... OK
* checking Rd contents ... OK
* checking for unstated dependencies in examples ... OK
* checking files in ‘vignettes’ ... OK
* checking examples ... OK
Examples with CPU or elapsed time > 5s
user system elapsed
estimateExonFoldChanges 12.195 0.058 12.393
perGeneQValue 10.795 0.047 10.947
methods-gr 10.534 0.106 10.742
DEXSeqResults 10.362 0.190 10.622
testForDEU 9.929 0.038 10.059
estimateDispersions 8.032 0.029 8.147
* checking for unstated dependencies in vignettes ... OK
* checking package vignettes in ‘inst/doc’ ... OK
* checking running R code from vignettes ... SKIPPED
* checking re-building of vignette outputs ... SKIPPED
* checking PDF version of manual ... OK
* DONE
Status: 1 NOTE
See
‘/Users/biocbuild/bbs-3.9-bioc/meat/DEXSeq.Rcheck/00check.log’
for details.
DEXSeq.Rcheck/00install.out
############################################################################## ############################################################################## ### ### Running command: ### ### /Library/Frameworks/R.framework/Versions/Current/Resources/bin/R CMD INSTALL DEXSeq ### ############################################################################## ############################################################################## * installing to library ‘/Library/Frameworks/R.framework/Versions/3.6/Resources/library’ * installing *source* package ‘DEXSeq’ ... ** R ** inst ** byte-compile and prepare package for lazy loading ** help *** installing help indices ** building package indices ** installing vignettes ** testing if installed package can be loaded * DONE (DEXSeq)
DEXSeq.Rcheck/DEXSeq-Ex.timings
| name | user | system | elapsed | |
| DEXSeq | 0 | 0 | 0 | |
| DEXSeqDataSet | 0.001 | 0.001 | 0.002 | |
| DEXSeqHTML | 0 | 0 | 0 | |
| DEXSeqResults | 10.362 | 0.190 | 10.622 | |
| accessors | 0.197 | 0.005 | 0.203 | |
| counts | 0.022 | 0.003 | 0.026 | |
| estimateDispersions | 8.032 | 0.029 | 8.147 | |
| estimateExonFoldChanges | 12.195 | 0.058 | 12.393 | |
| methods-gr | 10.534 | 0.106 | 10.742 | |
| perGeneQValue | 10.795 | 0.047 | 10.947 | |
| plotDEXSeq | 0 | 0 | 0 | |
| plotMA | 0 | 0 | 0 | |
| testForDEU | 9.929 | 0.038 | 10.059 | |