| Back to Multiple platform build/check report for BioC 3.9 | 
 | 
This page was generated on 2019-04-09 13:01:13 -0400 (Tue, 09 Apr 2019).
| Package 421/1703 | Hostname | OS / Arch | INSTALL | BUILD | CHECK | BUILD BIN | ||||||
| DEXSeq 1.29.10 Alejandro Reyes 
 | malbec2 | Linux (Ubuntu 18.04.2 LTS) / x86_64 | OK | OK | OK |  | ||||||
| tokay2 | Windows Server 2012 R2 Standard / x64 | OK | OK | OK | OK |  | ||||||
| celaya2 | OS X 10.11.6 El Capitan / x86_64 | OK | OK | OK | [ OK ] |  | ||||||
| merida2 | OS X 10.11.6 El Capitan / x86_64 | OK | OK | OK | OK | 
| Package: DEXSeq | 
| Version: 1.29.10 | 
| Command: rm -rf DEXSeq.buildbin-libdir && mkdir DEXSeq.buildbin-libdir && /Users/biocbuild/BBS/utils/build-universal.sh DEXSeq_1.29.10.tar.gz /Library/Frameworks/R.framework/Versions/Current/Resources/bin/R DEXSeq.buildbin-libdir | 
| StartedAt: 2019-04-09 06:56:13 -0400 (Tue, 09 Apr 2019) | 
| EndedAt: 2019-04-09 06:57:22 -0400 (Tue, 09 Apr 2019) | 
| EllapsedTime: 68.9 seconds | 
| RetCode: 0 | 
| Status: OK | 
| PackageFile: DEXSeq_1.29.10.tgz | 
| PackageFileSize: 2.329 MiB | 
############################################################################## ############################################################################## ### ### Running command: ### ### rm -rf DEXSeq.buildbin-libdir && mkdir DEXSeq.buildbin-libdir && /Users/biocbuild/BBS/utils/build-universal.sh DEXSeq_1.29.10.tar.gz /Library/Frameworks/R.framework/Versions/Current/Resources/bin/R DEXSeq.buildbin-libdir ### ############################################################################## ############################################################################## >>>>>>> >>>>>>> INSTALLATION WITH 'R CMD INSTALL --preclean --no-multiarch --library=DEXSeq.buildbin-libdir DEXSeq_1.29.10.tar.gz' >>>>>>> * installing *source* package ‘DEXSeq’ ... ** using staged installation ** R ** inst ** byte-compile and prepare package for lazy loading ** help *** installing help indices ** building package indices ** installing vignettes ** testing if installed package can be loaded from temporary location ** testing if installed package can be loaded from final location ** testing if installed package keeps a record of temporary installation path * DONE (DEXSeq)