| Back to Multiple platform build/check report for BioC 3.9 | 
  | 
This page was generated on 2019-04-09 11:57:25 -0400 (Tue, 09 Apr 2019).
| Package 261/1703 | Hostname | OS / Arch | INSTALL | BUILD | CHECK | BUILD BIN | ||||||
| ChIPsim 1.37.0 Peter Humburg 
  | malbec2 | Linux (Ubuntu 18.04.2 LTS) / x86_64 | OK | OK | OK | |||||||
| tokay2 | Windows Server 2012 R2 Standard / x64 | [ OK ] | OK | OK | OK | |||||||
| celaya2 | OS X 10.11.6 El Capitan / x86_64 | OK | OK | OK | OK | |||||||
| merida2 | OS X 10.11.6 El Capitan / x86_64 | OK | OK | OK | OK | 
| Package: ChIPsim | 
| Version: 1.37.0 | 
| Command: C:\cygwin\bin\curl.exe -O https://malbec2.bioconductor.org/BBS/3.9/bioc/src/contrib/ChIPsim_1.37.0.tar.gz && rm -rf ChIPsim.buildbin-libdir && mkdir ChIPsim.buildbin-libdir && C:\Users\biocbuild\bbs-3.9-bioc\R\bin\R.exe CMD INSTALL --merge-multiarch --build --library=ChIPsim.buildbin-libdir ChIPsim_1.37.0.tar.gz && C:\Users\biocbuild\bbs-3.9-bioc\R\bin\R.exe CMD INSTALL ChIPsim_1.37.0.zip && rm ChIPsim_1.37.0.tar.gz ChIPsim_1.37.0.zip | 
| StartedAt: 2019-04-08 19:56:17 -0400 (Mon, 08 Apr 2019) | 
| EndedAt: 2019-04-08 19:57:10 -0400 (Mon, 08 Apr 2019) | 
| EllapsedTime: 52.9 seconds | 
| RetCode: 0 | 
| Status: OK | 
##############################################################################
##############################################################################
###
### Running command:
###
###   C:\cygwin\bin\curl.exe -O https://malbec2.bioconductor.org/BBS/3.9/bioc/src/contrib/ChIPsim_1.37.0.tar.gz && rm -rf ChIPsim.buildbin-libdir && mkdir ChIPsim.buildbin-libdir && C:\Users\biocbuild\bbs-3.9-bioc\R\bin\R.exe CMD INSTALL --merge-multiarch --build --library=ChIPsim.buildbin-libdir ChIPsim_1.37.0.tar.gz && C:\Users\biocbuild\bbs-3.9-bioc\R\bin\R.exe CMD INSTALL ChIPsim_1.37.0.zip && rm ChIPsim_1.37.0.tar.gz ChIPsim_1.37.0.zip
###
##############################################################################
##############################################################################
  % Total    % Received % Xferd  Average Speed   Time    Time     Time  Current
                                 Dload  Upload   Total   Spent    Left  Speed
  0     0    0     0    0     0      0      0 --:--:-- --:--:-- --:--:--     0
100 39323  100 39323    0     0   253k      0 --:--:-- --:--:-- --:--:--  264k
install for i386
* installing *source* package 'ChIPsim' ...
** R
** byte-compile and prepare package for lazy loading
** help
*** installing help indices
  converting help for package 'ChIPsim'
    finding HTML links ... done
    ChIPsim-package                         html  
    bindDens2readDens                       html  
    decodeQuality                           html  
    defaultControl                          html  
    defaultErrorProb                        html  
    defaultFunctions                        html  
    defaultGenerator                        html  
    distDens                                html  
    extractQuality                          html  
    feat2dens                               html  
    featureDensity                          html  
    internal                                html  
    joinRegion                              html  
    makeFeatures                            html  
    placeFeatures                           html  
    pos2fastq                               html  
    readError                               html  
    readQualitySample                       html  
    readSequence                            html  
    reconcileFeatures                       html  
    sampleReads                             html  
    simChIP                                 html  
    simpleNames                             html  
    stableFeature                           html  
    writeFASTQ                              html  
    writeReads                              html  
** building package indices
** installing vignettes
** testing if installed package can be loaded from temporary location
** testing if installed package can be loaded from final location
** testing if installed package keeps a record of temporary installation path
install for x64
* installing *source* package 'ChIPsim' ...
** testing if installed package can be loaded
* MD5 sums
packaged installation of 'ChIPsim' as ChIPsim_1.37.0.zip
* DONE (ChIPsim)
* installing to library 'C:/Users/biocbuild/bbs-3.9-bioc/R/library'
package 'ChIPsim' successfully unpacked and MD5 sums checked