| Back to Multiple platform build/check report for BioC 3.9 |
|
This page was generated on 2019-04-09 13:24:53 -0400 (Tue, 09 Apr 2019).
| Package 261/1703 | Hostname | OS / Arch | INSTALL | BUILD | CHECK | BUILD BIN | ||||||
| ChIPsim 1.37.0 Peter Humburg
| malbec2 | Linux (Ubuntu 18.04.2 LTS) / x86_64 | OK | OK | OK | |||||||
| tokay2 | Windows Server 2012 R2 Standard / x64 | OK | OK | OK | OK | |||||||
| celaya2 | OS X 10.11.6 El Capitan / x86_64 | OK | OK | OK | OK | |||||||
| merida2 | OS X 10.11.6 El Capitan / x86_64 | OK | OK | [ OK ] | OK |
| Package: ChIPsim |
| Version: 1.37.0 |
| Command: /Library/Frameworks/R.framework/Versions/Current/Resources/bin/R CMD check --install=check:ChIPsim.install-out.txt --library=/Library/Frameworks/R.framework/Versions/Current/Resources/library --no-vignettes --timings ChIPsim_1.37.0.tar.gz |
| StartedAt: 2019-04-08 23:50:54 -0400 (Mon, 08 Apr 2019) |
| EndedAt: 2019-04-08 23:54:16 -0400 (Mon, 08 Apr 2019) |
| EllapsedTime: 201.9 seconds |
| RetCode: 0 |
| Status: OK |
| CheckDir: ChIPsim.Rcheck |
| Warnings: 0 |
##############################################################################
##############################################################################
###
### Running command:
###
### /Library/Frameworks/R.framework/Versions/Current/Resources/bin/R CMD check --install=check:ChIPsim.install-out.txt --library=/Library/Frameworks/R.framework/Versions/Current/Resources/library --no-vignettes --timings ChIPsim_1.37.0.tar.gz
###
##############################################################################
##############################################################################
* using log directory ‘/Users/biocbuild/bbs-3.9-bioc/meat/ChIPsim.Rcheck’
* using R Under development (unstable) (2018-11-27 r75683)
* using platform: x86_64-apple-darwin15.6.0 (64-bit)
* using session charset: UTF-8
* using option ‘--no-vignettes’
* checking for file ‘ChIPsim/DESCRIPTION’ ... OK
* checking extension type ... Package
* this is package ‘ChIPsim’ version ‘1.37.0’
* checking package namespace information ... OK
* checking package dependencies ... OK
* checking if this is a source package ... OK
* checking if there is a namespace ... OK
* checking for hidden files and directories ... OK
* checking for portable file names ... OK
* checking for sufficient/correct file permissions ... OK
* checking whether package ‘ChIPsim’ can be installed ... OK
* checking installed package size ... OK
* checking package directory ... OK
* checking ‘build’ directory ... OK
* checking DESCRIPTION meta-information ... NOTE
Package listed in more than one of Depends, Imports, Suggests, Enhances:
‘Biostrings’
A package should be listed in only one of these fields.
* checking top-level files ... OK
* checking for left-over files ... OK
* checking index information ... OK
* checking package subdirectories ... OK
* checking R files for non-ASCII characters ... OK
* checking R files for syntax errors ... OK
* checking whether the package can be loaded ... OK
* checking whether the package can be loaded with stated dependencies ... OK
* checking whether the package can be unloaded cleanly ... OK
* checking whether the namespace can be loaded with stated dependencies ... OK
* checking whether the namespace can be unloaded cleanly ... OK
* checking dependencies in R code ... OK
* checking S3 generic/method consistency ... OK
* checking replacement functions ... OK
* checking foreign function calls ... OK
* checking R code for possible problems ... NOTE
print.SimulatedFeature: no visible global function definition for ‘str’
Undefined global functions or variables:
str
Consider adding
importFrom("utils", "str")
to your NAMESPACE file.
* checking Rd files ... OK
* checking Rd metadata ... OK
* checking Rd cross-references ... OK
* checking for missing documentation entries ... OK
* checking for code/documentation mismatches ... OK
* checking Rd \usage sections ... OK
* checking Rd contents ... OK
* checking for unstated dependencies in examples ... OK
* checking sizes of PDF files under ‘inst/doc’ ... OK
* checking files in ‘vignettes’ ... OK
* checking examples ... OK
* checking for unstated dependencies in vignettes ... OK
* checking package vignettes in ‘inst/doc’ ... OK
* checking running R code from vignettes ... SKIPPED
* checking re-building of vignette outputs ... SKIPPED
* checking PDF version of manual ... OK
* DONE
Status: 2 NOTEs
See
‘/Users/biocbuild/bbs-3.9-bioc/meat/ChIPsim.Rcheck/00check.log’
for details.
ChIPsim.Rcheck/00install.out
############################################################################## ############################################################################## ### ### Running command: ### ### /Library/Frameworks/R.framework/Versions/Current/Resources/bin/R CMD INSTALL ChIPsim ### ############################################################################## ############################################################################## * installing to library ‘/Library/Frameworks/R.framework/Versions/3.6/Resources/library’ * installing *source* package ‘ChIPsim’ ... ** R ** byte-compile and prepare package for lazy loading ** help *** installing help indices ** building package indices ** installing vignettes ** testing if installed package can be loaded * DONE (ChIPsim)
ChIPsim.Rcheck/ChIPsim-Ex.timings
| name | user | system | elapsed | |
| ChIPsim-package | 0 | 0 | 0 | |
| bindDens2readDens | 1.304 | 0.220 | 1.543 | |
| decodeQuality | 0.001 | 0.001 | 0.002 | |
| defaultControl | 0.004 | 0.000 | 0.004 | |
| defaultErrorProb | 0.000 | 0.000 | 0.001 | |
| defaultFunctions | 0.006 | 0.001 | 0.006 | |
| defaultGenerator | 0.084 | 0.002 | 0.087 | |
| extractQuality | 0.001 | 0.000 | 0.000 | |
| feat2dens | 1.722 | 0.176 | 1.920 | |
| featureDensity | 0.002 | 0.000 | 0.002 | |
| makeFeatures | 0.093 | 0.001 | 0.097 | |
| placeFeatures | 0.133 | 0.002 | 0.134 | |
| pos2fastq | 0.061 | 0.004 | 0.065 | |
| readError | 0.001 | 0.000 | 0.001 | |
| reconcileFeatures | 0.103 | 0.001 | 0.103 | |
| sampleReads | 1.309 | 0.199 | 1.522 | |
| simChIP | 0.001 | 0.001 | 0.000 | |
| simpleNames | 0.000 | 0.000 | 0.001 | |
| stableFeature | 0.000 | 0.000 | 0.001 | |
| writeFASTQ | 0.002 | 0.000 | 0.002 | |