| Back to Multiple platform build/check report for BioC 3.9 | 
  | 
This page was generated on 2019-04-09 12:42:49 -0400 (Tue, 09 Apr 2019).
| Package 311/1703 | Hostname | OS / Arch | INSTALL | BUILD | CHECK | BUILD BIN | ||||||
| COCOA 1.1.2 John Lawson 
  | malbec2 | Linux (Ubuntu 18.04.2 LTS) / x86_64 | OK | OK | OK | |||||||
| tokay2 | Windows Server 2012 R2 Standard / x64 | OK | OK | OK | [ OK ] | |||||||
| celaya2 | OS X 10.11.6 El Capitan / x86_64 | OK | OK | OK | OK | |||||||
| merida2 | OS X 10.11.6 El Capitan / x86_64 | OK | OK | OK | OK | 
| Package: COCOA | 
| Version: 1.1.2 | 
| Command: rm -rf COCOA.buildbin-libdir && mkdir COCOA.buildbin-libdir && C:\Users\biocbuild\bbs-3.9-bioc\R\bin\R.exe CMD INSTALL --merge-multiarch --build --library=COCOA.buildbin-libdir COCOA_1.1.2.tar.gz | 
| StartedAt: 2019-04-09 07:40:39 -0400 (Tue, 09 Apr 2019) | 
| EndedAt: 2019-04-09 07:41:47 -0400 (Tue, 09 Apr 2019) | 
| EllapsedTime: 67.6 seconds | 
| RetCode: 0 | 
| Status: OK | 
| PackageFile: COCOA_1.1.2.zip | 
| PackageFileSize: 1.967 MiB | 
##############################################################################
##############################################################################
###
### Running command:
###
###   rm -rf COCOA.buildbin-libdir && mkdir COCOA.buildbin-libdir && C:\Users\biocbuild\bbs-3.9-bioc\R\bin\R.exe CMD INSTALL --merge-multiarch --build --library=COCOA.buildbin-libdir COCOA_1.1.2.tar.gz
###
##############################################################################
##############################################################################
install for i386
* installing *source* package 'COCOA' ...
** R
** data
** inst
** byte-compile and prepare package for lazy loading
** help
*** installing help indices
  converting help for package 'COCOA'
    finding HTML links ... done
    COCOA                                   html  
    aggregateLoadings                       html  
    atf3_chr1                               html  
    brcaLoadings1                           html  
    brcaMCoord1                             html  
    brcaMethylData1                         html  
    brcaPCScores                            html  
    brcaPCScores657                         html  
    esr1_chr1                               html  
    gata3_chr1                              html  
    getLoadingProfile                       html  
    nrf1_chr1                               html  
    regionQuantileByPC                      html  
    rsRankingIndex                          html  
    rsScoreHeatmap                          html  
    rsScores                                html  
    runCOCOA                                html  
    signalAlongPC                           html  
** building package indices
** installing vignettes
** testing if installed package can be loaded from temporary location
** testing if installed package can be loaded from final location
** testing if installed package keeps a record of temporary installation path
install for x64
* installing *source* package 'COCOA' ...
** testing if installed package can be loaded
* MD5 sums
packaged installation of 'COCOA' as COCOA_1.1.2.zip
* DONE (COCOA)