| Back to Multiple platform build/check report for BioC 3.9 |
|
This page was generated on 2019-04-09 13:37:51 -0400 (Tue, 09 Apr 2019).
| Package 311/1703 | Hostname | OS / Arch | INSTALL | BUILD | CHECK | BUILD BIN | ||||||
| COCOA 1.1.2 John Lawson
| malbec2 | Linux (Ubuntu 18.04.2 LTS) / x86_64 | OK | OK | OK | |||||||
| tokay2 | Windows Server 2012 R2 Standard / x64 | OK | OK | OK | OK | |||||||
| celaya2 | OS X 10.11.6 El Capitan / x86_64 | OK | OK | OK | OK | |||||||
| merida2 | OS X 10.11.6 El Capitan / x86_64 | OK | OK | OK | [ OK ] |
| Package: COCOA |
| Version: 1.1.2 |
| Command: rm -rf COCOA.buildbin-libdir && mkdir COCOA.buildbin-libdir && /Users/biocbuild/BBS/utils/build-universal.sh COCOA_1.1.2.tar.gz /Library/Frameworks/R.framework/Versions/Current/Resources/bin/R COCOA.buildbin-libdir |
| StartedAt: 2019-04-09 05:01:33 -0400 (Tue, 09 Apr 2019) |
| EndedAt: 2019-04-09 05:02:50 -0400 (Tue, 09 Apr 2019) |
| EllapsedTime: 76.8 seconds |
| RetCode: 0 |
| Status: OK |
| PackageFile: COCOA_1.1.2.tgz |
| PackageFileSize: 2.647 MiB |
############################################################################## ############################################################################## ### ### Running command: ### ### rm -rf COCOA.buildbin-libdir && mkdir COCOA.buildbin-libdir && /Users/biocbuild/BBS/utils/build-universal.sh COCOA_1.1.2.tar.gz /Library/Frameworks/R.framework/Versions/Current/Resources/bin/R COCOA.buildbin-libdir ### ############################################################################## ############################################################################## >>>>>>> >>>>>>> INSTALLATION WITH 'R CMD INSTALL --preclean --no-multiarch --library=COCOA.buildbin-libdir COCOA_1.1.2.tar.gz' >>>>>>> * installing *source* package ‘COCOA’ ... ** R ** data ** inst ** byte-compile and prepare package for lazy loading ** help *** installing help indices ** building package indices ** installing vignettes ** testing if installed package can be loaded * DONE (COCOA)