| Back to Multiple platform build/check report for BioC 3.9 | 
 | 
This page was generated on 2019-04-09 11:57:31 -0400 (Tue, 09 Apr 2019).
| Package 239/1703 | Hostname | OS / Arch | INSTALL | BUILD | CHECK | BUILD BIN | ||||||
| CGHnormaliter 1.37.0 Bart P.P. van Houte 
 | malbec2 | Linux (Ubuntu 18.04.2 LTS) / x86_64 | OK | OK | OK |  | ||||||
| tokay2 | Windows Server 2012 R2 Standard / x64 | OK | OK | OK | [ OK ] |  | ||||||
| celaya2 | OS X 10.11.6 El Capitan / x86_64 | OK | OK | OK | OK |  | ||||||
| merida2 | OS X 10.11.6 El Capitan / x86_64 | OK | OK | OK | OK | 
| Package: CGHnormaliter | 
| Version: 1.37.0 | 
| Command: rm -rf CGHnormaliter.buildbin-libdir && mkdir CGHnormaliter.buildbin-libdir && C:\Users\biocbuild\bbs-3.9-bioc\R\bin\R.exe CMD INSTALL --merge-multiarch --build --library=CGHnormaliter.buildbin-libdir CGHnormaliter_1.37.0.tar.gz | 
| StartedAt: 2019-04-09 07:36:10 -0400 (Tue, 09 Apr 2019) | 
| EndedAt: 2019-04-09 07:36:49 -0400 (Tue, 09 Apr 2019) | 
| EllapsedTime: 39.6 seconds | 
| RetCode: 0 | 
| Status: OK | 
| PackageFile: CGHnormaliter_1.37.0.zip | 
| PackageFileSize: 1.001 MiB | 
##############################################################################
##############################################################################
###
### Running command:
###
###   rm -rf CGHnormaliter.buildbin-libdir && mkdir CGHnormaliter.buildbin-libdir && C:\Users\biocbuild\bbs-3.9-bioc\R\bin\R.exe CMD INSTALL --merge-multiarch --build --library=CGHnormaliter.buildbin-libdir CGHnormaliter_1.37.0.tar.gz
###
##############################################################################
##############################################################################
install for i386
* installing *source* package 'CGHnormaliter' ...
** R
** data
** inst
** byte-compile and prepare package for lazy loading
** help
*** installing help indices
  converting help for package 'CGHnormaliter'
    finding HTML links ... done
    CGHnormaliter-internal                  html  
    CGHnormaliter-package                   html  
    CGHnormaliter                           html  
    CGHnormaliter.write.table               html  
    Leukemia                                html  
** building package indices
** installing vignettes
** testing if installed package can be loaded from temporary location
** testing if installed package can be loaded from final location
** testing if installed package keeps a record of temporary installation path
install for x64
* installing *source* package 'CGHnormaliter' ...
** testing if installed package can be loaded
* MD5 sums
packaged installation of 'CGHnormaliter' as CGHnormaliter_1.37.0.zip
* DONE (CGHnormaliter)