| Back to Multiple platform build/check report for BioC 3.9 | 
 | 
This page was generated on 2019-04-09 12:57:44 -0400 (Tue, 09 Apr 2019).
| Package 239/1703 | Hostname | OS / Arch | INSTALL | BUILD | CHECK | BUILD BIN | ||||||
| CGHnormaliter 1.37.0 Bart P.P. van Houte 
 | malbec2 | Linux (Ubuntu 18.04.2 LTS) / x86_64 | OK | OK | OK |  | ||||||
| tokay2 | Windows Server 2012 R2 Standard / x64 | OK | OK | OK | OK |  | ||||||
| celaya2 | OS X 10.11.6 El Capitan / x86_64 | OK | OK | OK | [ OK ] |  | ||||||
| merida2 | OS X 10.11.6 El Capitan / x86_64 | OK | OK | OK | OK | 
| Package: CGHnormaliter | 
| Version: 1.37.0 | 
| Command: rm -rf CGHnormaliter.buildbin-libdir && mkdir CGHnormaliter.buildbin-libdir && /Users/biocbuild/BBS/utils/build-universal.sh CGHnormaliter_1.37.0.tar.gz /Library/Frameworks/R.framework/Versions/Current/Resources/bin/R CGHnormaliter.buildbin-libdir | 
| StartedAt: 2019-04-09 06:47:27 -0400 (Tue, 09 Apr 2019) | 
| EndedAt: 2019-04-09 06:47:49 -0400 (Tue, 09 Apr 2019) | 
| EllapsedTime: 22.4 seconds | 
| RetCode: 0 | 
| Status: OK | 
| PackageFile: CGHnormaliter_1.37.0.tgz | 
| PackageFileSize: 1018 KiB | 
############################################################################## ############################################################################## ### ### Running command: ### ### rm -rf CGHnormaliter.buildbin-libdir && mkdir CGHnormaliter.buildbin-libdir && /Users/biocbuild/BBS/utils/build-universal.sh CGHnormaliter_1.37.0.tar.gz /Library/Frameworks/R.framework/Versions/Current/Resources/bin/R CGHnormaliter.buildbin-libdir ### ############################################################################## ############################################################################## >>>>>>> >>>>>>> INSTALLATION WITH 'R CMD INSTALL --preclean --no-multiarch --library=CGHnormaliter.buildbin-libdir CGHnormaliter_1.37.0.tar.gz' >>>>>>> * installing *source* package ‘CGHnormaliter’ ... ** using staged installation ** R ** data ** inst ** byte-compile and prepare package for lazy loading ** help *** installing help indices ** building package indices ** installing vignettes ** testing if installed package can be loaded from temporary location ** testing if installed package can be loaded from final location ** testing if installed package keeps a record of temporary installation path * DONE (CGHnormaliter)