| Back to Multiple platform build/check report for BioC 3.9 | 
 | 
This page was generated on 2019-04-09 13:31:04 -0400 (Tue, 09 Apr 2019).
| Package 189/1703 | Hostname | OS / Arch | INSTALL | BUILD | CHECK | BUILD BIN | ||||||
| BubbleTree 2.13.3 Todd Creasy 
 | malbec2 | Linux (Ubuntu 18.04.2 LTS) / x86_64 | OK | OK | OK |  | ||||||
| tokay2 | Windows Server 2012 R2 Standard / x64 | OK | OK | OK | OK |  | ||||||
| celaya2 | OS X 10.11.6 El Capitan / x86_64 | OK | OK | OK | OK |  | ||||||
| merida2 | OS X 10.11.6 El Capitan / x86_64 | OK | OK | OK | [ OK ] | 
| Package: BubbleTree | 
| Version: 2.13.3 | 
| Command: rm -rf BubbleTree.buildbin-libdir && mkdir BubbleTree.buildbin-libdir && /Users/biocbuild/BBS/utils/build-universal.sh BubbleTree_2.13.3.tar.gz /Library/Frameworks/R.framework/Versions/Current/Resources/bin/R BubbleTree.buildbin-libdir | 
| StartedAt: 2019-04-09 04:52:02 -0400 (Tue, 09 Apr 2019) | 
| EndedAt: 2019-04-09 04:53:17 -0400 (Tue, 09 Apr 2019) | 
| EllapsedTime: 75.0 seconds | 
| RetCode: 0 | 
| Status: OK | 
| PackageFile: BubbleTree_2.13.3.tgz | 
| PackageFileSize: 28.07 MiB | 
############################################################################## ############################################################################## ### ### Running command: ### ### rm -rf BubbleTree.buildbin-libdir && mkdir BubbleTree.buildbin-libdir && /Users/biocbuild/BBS/utils/build-universal.sh BubbleTree_2.13.3.tar.gz /Library/Frameworks/R.framework/Versions/Current/Resources/bin/R BubbleTree.buildbin-libdir ### ############################################################################## ############################################################################## >>>>>>> >>>>>>> INSTALLATION WITH 'R CMD INSTALL --preclean --no-multiarch --library=BubbleTree.buildbin-libdir BubbleTree_2.13.3.tar.gz' >>>>>>> * installing *source* package ‘BubbleTree’ ... It is recommended to use ‘given’ instead of ‘middle’. ** R ** data ** inst ** byte-compile and prepare package for lazy loading ** help *** installing help indices ** building package indices ** installing vignettes ** testing if installed package can be loaded * DONE (BubbleTree)