| Back to Multiple platform build/check report for BioC 3.9 | 
 | 
This page was generated on 2019-04-09 13:13:28 -0400 (Tue, 09 Apr 2019).
| Package 189/1703 | Hostname | OS / Arch | INSTALL | BUILD | CHECK | BUILD BIN | ||||||
| BubbleTree 2.13.3 Todd Creasy 
 | malbec2 | Linux (Ubuntu 18.04.2 LTS) / x86_64 | OK | OK | OK |  | ||||||
| tokay2 | Windows Server 2012 R2 Standard / x64 | OK | OK | OK | OK |  | ||||||
| celaya2 | OS X 10.11.6 El Capitan / x86_64 | OK | OK | [ OK ] | OK |  | ||||||
| merida2 | OS X 10.11.6 El Capitan / x86_64 | OK | OK | OK | OK | 
| Package: BubbleTree | 
| Version: 2.13.3 | 
| Command: /Library/Frameworks/R.framework/Versions/Current/Resources/bin/R CMD check --install=check:BubbleTree.install-out.txt --library=/Library/Frameworks/R.framework/Versions/Current/Resources/library --no-vignettes --timings BubbleTree_2.13.3.tar.gz | 
| StartedAt: 2019-04-09 00:19:00 -0400 (Tue, 09 Apr 2019) | 
| EndedAt: 2019-04-09 00:26:58 -0400 (Tue, 09 Apr 2019) | 
| EllapsedTime: 477.8 seconds | 
| RetCode: 0 | 
| Status: OK | 
| CheckDir: BubbleTree.Rcheck | 
| Warnings: 0 | 
##############################################################################
##############################################################################
###
### Running command:
###
###   /Library/Frameworks/R.framework/Versions/Current/Resources/bin/R CMD check --install=check:BubbleTree.install-out.txt --library=/Library/Frameworks/R.framework/Versions/Current/Resources/library --no-vignettes --timings BubbleTree_2.13.3.tar.gz
###
##############################################################################
##############################################################################
* using log directory ‘/Users/biocbuild/bbs-3.9-bioc/meat/BubbleTree.Rcheck’
* using R Under development (unstable) (2019-03-18 r76245)
* using platform: x86_64-apple-darwin15.6.0 (64-bit)
* using session charset: UTF-8
* using option ‘--no-vignettes’
* checking for file ‘BubbleTree/DESCRIPTION’ ... OK
* checking extension type ... Package
* this is package ‘BubbleTree’ version ‘2.13.3’
* checking package namespace information ... OK
* checking package dependencies ... OK
* checking if this is a source package ... OK
* checking if there is a namespace ... OK
* checking for hidden files and directories ... OK
* checking for portable file names ... OK
* checking for sufficient/correct file permissions ... OK
* checking whether package ‘BubbleTree’ can be installed ... OK
* checking installed package size ... NOTE
  installed size is 23.8Mb
  sub-directories of 1Mb or more:
    data  23.4Mb
* checking package directory ... OK
* checking ‘build’ directory ... OK
* checking DESCRIPTION meta-information ...It is recommended to use ‘given’ instead of ‘middle’.
 OK
* checking top-level files ... OK
* checking for left-over files ... OK
* checking index information ... OK
* checking package subdirectories ... OK
* checking R files for non-ASCII characters ... OK
* checking R files for syntax errors ... OK
* checking whether the package can be loaded ... OK
* checking whether the package can be loaded with stated dependencies ... OK
* checking whether the package can be unloaded cleanly ... OK
* checking whether the namespace can be loaded with stated dependencies ... OK
* checking whether the namespace can be unloaded cleanly ... OK
* checking dependencies in R code ... OK
* checking S3 generic/method consistency ... OK
* checking replacement functions ... OK
* checking foreign function calls ... OK
* checking R code for possible problems ... NOTE
annoByOverlap,Annotate: no visible binding for global variable
  'queryHits'
Undefined global functions or variables:
  queryHits
* checking Rd files ... OK
* checking Rd metadata ... OK
* checking Rd cross-references ... OK
* checking for missing documentation entries ... OK
* checking for code/documentation mismatches ... OK
* checking Rd \usage sections ... OK
* checking Rd contents ... OK
* checking for unstated dependencies in examples ... OK
* checking contents of ‘data’ directory ... OK
* checking data for non-ASCII characters ... OK
* checking data for ASCII and uncompressed saves ... OK
* checking files in ‘vignettes’ ... OK
* checking examples ... OK
Examples with CPU or elapsed time > 5s
                  user system elapsed
makeRBD         33.845  0.196  34.085
heteroLociTrack  8.426  0.703   9.130
btpredict        6.597  0.097   6.693
info             6.431  0.235   6.668
* checking for unstated dependencies in vignettes ... OK
* checking package vignettes in ‘inst/doc’ ... OK
* checking running R code from vignettes ... SKIPPED
* checking re-building of vignette outputs ... SKIPPED
* checking PDF version of manual ... OK
* DONE
Status: 2 NOTEs
See
  ‘/Users/biocbuild/bbs-3.9-bioc/meat/BubbleTree.Rcheck/00check.log’
for details.
BubbleTree.Rcheck/00install.out
############################################################################## ############################################################################## ### ### Running command: ### ### /Library/Frameworks/R.framework/Versions/Current/Resources/bin/R CMD INSTALL BubbleTree ### ############################################################################## ############################################################################## * installing to library ‘/Library/Frameworks/R.framework/Versions/3.6/Resources/library’ * installing *source* package ‘BubbleTree’ ... ** using staged installation It is recommended to use ‘given’ instead of ‘middle’. ** R ** data ** inst ** byte-compile and prepare package for lazy loading ** help *** installing help indices ** building package indices ** installing vignettes ** testing if installed package can be loaded from temporary location ** testing if installed package can be loaded from final location ** testing if installed package keeps a record of temporary installation path * DONE (BubbleTree)
BubbleTree.Rcheck/BubbleTree-Ex.timings
| name | user | system | elapsed | |
| Annotate | 0.001 | 0.000 | 0.001 | |
| BTreePlotter | 0.092 | 0.007 | 0.099 | |
| BTreePredictor | 0.006 | 0.001 | 0.006 | |
| RBD | 0 | 0 | 0 | |
| RscoreTrack | 0.778 | 0.056 | 0.835 | |
| TrackPlotter | 0.001 | 0.001 | 0.001 | |
| annoByGenesAndCyto | 0.959 | 0.073 | 1.032 | |
| bafTrack | 0.351 | 0.052 | 0.402 | |
| btcompare | 0.005 | 0.016 | 0.020 | |
| btpredict | 6.597 | 0.097 | 6.693 | |
| drawBTree | 0.435 | 0.069 | 0.503 | |
| drawBubbles | 0.395 | 0.024 | 0.419 | |
| drawFeatures | 2.789 | 0.101 | 2.893 | |
| getTracks | 0.836 | 0.058 | 0.893 | |
| heteroLociTrack | 8.426 | 0.703 | 9.130 | |
| info | 6.431 | 0.235 | 6.668 | |
| loadRBD | 0.031 | 0.004 | 0.036 | |
| makeRBD | 33.845 | 0.196 | 34.085 | |
| saveXLS | 0.623 | 0.160 | 0.830 | |
| trackBTree | 0.297 | 0.023 | 0.320 | |
| xyTrack | 0.304 | 0.034 | 0.339 | |