| Back to Multiple platform build/check report for BioC 3.9 | 
 | 
This page was generated on 2019-04-09 12:31:53 -0400 (Tue, 09 Apr 2019).
| Package 150/1703 | Hostname | OS / Arch | INSTALL | BUILD | CHECK | BUILD BIN | ||||||
| BiocSklearn 1.5.2 VJ Carey 
 | malbec2 | Linux (Ubuntu 18.04.2 LTS) / x86_64 | OK | OK | OK |  | ||||||
| tokay2 | Windows Server 2012 R2 Standard / x64 | OK | OK | OK | [ OK ] |  | ||||||
| celaya2 | OS X 10.11.6 El Capitan / x86_64 | OK | OK | OK | OK |  | ||||||
| merida2 | OS X 10.11.6 El Capitan / x86_64 | OK | OK | OK | OK | 
| Package: BiocSklearn | 
| Version: 1.5.2 | 
| Command: rm -rf BiocSklearn.buildbin-libdir && mkdir BiocSklearn.buildbin-libdir && C:\Users\biocbuild\bbs-3.9-bioc\R\bin\R.exe --arch x64 CMD INSTALL --no-multiarch --build --library=BiocSklearn.buildbin-libdir BiocSklearn_1.5.2.tar.gz | 
| StartedAt: 2019-04-09 07:30:34 -0400 (Tue, 09 Apr 2019) | 
| EndedAt: 2019-04-09 07:32:41 -0400 (Tue, 09 Apr 2019) | 
| EllapsedTime: 127.0 seconds | 
| RetCode: 0 | 
| Status: OK | 
| PackageFile: BiocSklearn_1.5.2.zip | 
| PackageFileSize: 32.67 MiB | 
##############################################################################
##############################################################################
###
### Running command:
###
###   rm -rf BiocSklearn.buildbin-libdir && mkdir BiocSklearn.buildbin-libdir && C:\Users\biocbuild\bbs-3.9-bioc\R\bin\R.exe --arch x64 CMD INSTALL --no-multiarch --build --library=BiocSklearn.buildbin-libdir BiocSklearn_1.5.2.tar.gz
###
##############################################################################
##############################################################################
* installing *source* package 'BiocSklearn' ...
** R
** inst
** byte-compile and prepare package for lazy loading
** help
*** installing help indices
  converting help for package 'BiocSklearn'
    finding HTML links ... done
    H5matref                                html  
    SkDecomp-class                          html  
    SklearnEls                              html  
    h5mat                                   html  
    skIncrPCA                               html  
    skIncrPPCA                              html  
    skKMeans                                html  
    skPCA                                   html  
    skPartialPCA_step                       html  
** building package indices
** installing vignettes
** testing if installed package can be loaded from temporary location
** testing if installed package can be loaded from final location
** testing if installed package keeps a record of temporary installation path
* MD5 sums
packaged installation of 'BiocSklearn' as BiocSklearn_1.5.2.zip
* DONE (BiocSklearn)