| Back to Multiple platform build/check report for BioC 3.9 | 
 | 
This page was generated on 2019-04-09 13:18:43 -0400 (Tue, 09 Apr 2019).
| Package 150/1703 | Hostname | OS / Arch | INSTALL | BUILD | CHECK | BUILD BIN | ||||||
| BiocSklearn 1.5.2 VJ Carey 
 | malbec2 | Linux (Ubuntu 18.04.2 LTS) / x86_64 | OK | OK | OK |  | ||||||
| tokay2 | Windows Server 2012 R2 Standard / x64 | OK | OK | OK | OK |  | ||||||
| celaya2 | OS X 10.11.6 El Capitan / x86_64 | OK | OK | OK | [ OK ] |  | ||||||
| merida2 | OS X 10.11.6 El Capitan / x86_64 | OK | OK | OK | OK | 
| Package: BiocSklearn | 
| Version: 1.5.2 | 
| Command: rm -rf BiocSklearn.buildbin-libdir && mkdir BiocSklearn.buildbin-libdir && /Users/biocbuild/BBS/utils/build-universal.sh BiocSklearn_1.5.2.tar.gz /Library/Frameworks/R.framework/Versions/Current/Resources/bin/R BiocSklearn.buildbin-libdir | 
| StartedAt: 2019-04-09 06:43:33 -0400 (Tue, 09 Apr 2019) | 
| EndedAt: 2019-04-09 06:44:08 -0400 (Tue, 09 Apr 2019) | 
| EllapsedTime: 34.9 seconds | 
| RetCode: 0 | 
| Status: OK | 
| PackageFile: BiocSklearn_1.5.2.tgz | 
| PackageFileSize: 32.67 MiB | 
############################################################################## ############################################################################## ### ### Running command: ### ### rm -rf BiocSklearn.buildbin-libdir && mkdir BiocSklearn.buildbin-libdir && /Users/biocbuild/BBS/utils/build-universal.sh BiocSklearn_1.5.2.tar.gz /Library/Frameworks/R.framework/Versions/Current/Resources/bin/R BiocSklearn.buildbin-libdir ### ############################################################################## ############################################################################## >>>>>>> >>>>>>> INSTALLATION WITH 'R CMD INSTALL --preclean --no-multiarch --library=BiocSklearn.buildbin-libdir BiocSklearn_1.5.2.tar.gz' >>>>>>> * installing *source* package ‘BiocSklearn’ ... ** using staged installation ** R ** inst ** byte-compile and prepare package for lazy loading ** help *** installing help indices ** building package indices ** installing vignettes ** testing if installed package can be loaded from temporary location ** testing if installed package can be loaded from final location ** testing if installed package keeps a record of temporary installation path * DONE (BiocSklearn)