| Back to Multiple platform build/check report for BioC 3.9 |
|
This page was generated on 2019-04-09 11:57:36 -0400 (Tue, 09 Apr 2019).
| Package 164/1703 | Hostname | OS / Arch | INSTALL | BUILD | CHECK | BUILD BIN | ||||||
| BioSeqClass 1.41.0 Li Hong
| malbec2 | Linux (Ubuntu 18.04.2 LTS) / x86_64 | OK | OK | OK | |||||||
| tokay2 | Windows Server 2012 R2 Standard / x64 | OK | OK | OK | [ OK ] | |||||||
| celaya2 | OS X 10.11.6 El Capitan / x86_64 | OK | OK | OK | OK | |||||||
| merida2 | OS X 10.11.6 El Capitan / x86_64 | OK | OK | OK | OK |
| Package: BioSeqClass |
| Version: 1.41.0 |
| Command: rm -rf BioSeqClass.buildbin-libdir && mkdir BioSeqClass.buildbin-libdir && C:\Users\biocbuild\bbs-3.9-bioc\R\bin\R.exe CMD INSTALL --merge-multiarch --build --library=BioSeqClass.buildbin-libdir BioSeqClass_1.41.0.tar.gz |
| StartedAt: 2019-04-09 07:31:25 -0400 (Tue, 09 Apr 2019) |
| EndedAt: 2019-04-09 07:32:29 -0400 (Tue, 09 Apr 2019) |
| EllapsedTime: 64.1 seconds |
| RetCode: 0 |
| Status: OK |
| PackageFile: BioSeqClass_1.41.0.zip |
| PackageFileSize: 5.858 MiB |
##############################################################################
##############################################################################
###
### Running command:
###
### rm -rf BioSeqClass.buildbin-libdir && mkdir BioSeqClass.buildbin-libdir && C:\Users\biocbuild\bbs-3.9-bioc\R\bin\R.exe CMD INSTALL --merge-multiarch --build --library=BioSeqClass.buildbin-libdir BioSeqClass_1.41.0.tar.gz
###
##############################################################################
##############################################################################
install for i386
* installing *source* package 'BioSeqClass' ...
** R
** data
** inst
** byte-compile and prepare package for lazy loading
** help
*** installing help indices
converting help for package 'BioSeqClass'
finding HTML links ... done
basic html
classify html
featureAAindex html
featureBDNAVIDEO html
featureBinary html
featureCKSAAP html
featureCTD html
featureDIPRODB html
featureDOMAIN html
featureEvaluate html
featureFragmentComposition html
featureGapPairComposition html
featureHydro html
featurePSSM html
featurePseudoAAComp html
featureSSC html
hr html
model html
performance html
selectFFS html
selectWeka html
zzz html
** building package indices
** installing vignettes
** testing if installed package can be loaded from temporary location
** testing if installed package can be loaded from final location
** testing if installed package keeps a record of temporary installation path
install for x64
* installing *source* package 'BioSeqClass' ...
** testing if installed package can be loaded
* MD5 sums
packaged installation of 'BioSeqClass' as BioSeqClass_1.41.0.zip
* DONE (BioSeqClass)