| Back to Multiple platform build/check report for BioC 3.9 |
|
This page was generated on 2019-04-09 13:25:00 -0400 (Tue, 09 Apr 2019).
| Package 164/1703 | Hostname | OS / Arch | INSTALL | BUILD | CHECK | BUILD BIN | ||||||
| BioSeqClass 1.41.0 Li Hong
| malbec2 | Linux (Ubuntu 18.04.2 LTS) / x86_64 | OK | OK | OK | |||||||
| tokay2 | Windows Server 2012 R2 Standard / x64 | OK | OK | OK | OK | |||||||
| celaya2 | OS X 10.11.6 El Capitan / x86_64 | OK | OK | OK | OK | |||||||
| merida2 | OS X 10.11.6 El Capitan / x86_64 | OK | OK | [ OK ] | OK |
| Package: BioSeqClass |
| Version: 1.41.0 |
| Command: /Library/Frameworks/R.framework/Versions/Current/Resources/bin/R CMD check --install=check:BioSeqClass.install-out.txt --library=/Library/Frameworks/R.framework/Versions/Current/Resources/library --no-vignettes --timings BioSeqClass_1.41.0.tar.gz |
| StartedAt: 2019-04-08 23:32:42 -0400 (Mon, 08 Apr 2019) |
| EndedAt: 2019-04-08 23:35:27 -0400 (Mon, 08 Apr 2019) |
| EllapsedTime: 165.2 seconds |
| RetCode: 0 |
| Status: OK |
| CheckDir: BioSeqClass.Rcheck |
| Warnings: 0 |
##############################################################################
##############################################################################
###
### Running command:
###
### /Library/Frameworks/R.framework/Versions/Current/Resources/bin/R CMD check --install=check:BioSeqClass.install-out.txt --library=/Library/Frameworks/R.framework/Versions/Current/Resources/library --no-vignettes --timings BioSeqClass_1.41.0.tar.gz
###
##############################################################################
##############################################################################
* using log directory ‘/Users/biocbuild/bbs-3.9-bioc/meat/BioSeqClass.Rcheck’
* using R Under development (unstable) (2018-11-27 r75683)
* using platform: x86_64-apple-darwin15.6.0 (64-bit)
* using session charset: UTF-8
* using option ‘--no-vignettes’
* checking for file ‘BioSeqClass/DESCRIPTION’ ... OK
* this is package ‘BioSeqClass’ version ‘1.41.0’
* checking package namespace information ... OK
* checking package dependencies ... OK
* checking if this is a source package ... OK
* checking if there is a namespace ... OK
* checking for hidden files and directories ... OK
* checking for portable file names ... OK
* checking for sufficient/correct file permissions ... OK
* checking whether package ‘BioSeqClass’ can be installed ... OK
* checking installed package size ... NOTE
installed size is 6.4Mb
sub-directories of 1Mb or more:
data 2.9Mb
scripts 3.0Mb
* checking package directory ... OK
* checking ‘build’ directory ... OK
* checking DESCRIPTION meta-information ... NOTE
Malformed Description field: should contain one or more complete sentences.
Package listed in more than one of Depends, Imports, Suggests, Enhances:
‘scatterplot3d’
A package should be listed in only one of these fields.
* checking top-level files ... OK
* checking for left-over files ... OK
* checking index information ... OK
* checking package subdirectories ... OK
* checking R files for non-ASCII characters ... OK
* checking R files for syntax errors ... OK
* checking whether the package can be loaded ... OK
* checking whether the package can be loaded with stated dependencies ... OK
* checking whether the package can be unloaded cleanly ... OK
* checking whether the namespace can be loaded with stated dependencies ... OK
* checking whether the namespace can be unloaded cleanly ... OK
* checking dependencies in R code ... NOTE
Package in Depends field not imported from: ‘scatterplot3d’
These packages need to be imported from (in the NAMESPACE file)
for when this namespace is loaded but not attached.
* checking S3 generic/method consistency ... OK
* checking replacement functions ... OK
* checking foreign function calls ... OK
* checking R code for possible problems ... NOTE
classifyModelCTREELIBSVM: no visible global function definition for
‘plot’
Undefined global functions or variables:
plot
Consider adding
importFrom("graphics", "plot")
to your NAMESPACE file.
* checking Rd files ... OK
* checking Rd metadata ... OK
* checking Rd cross-references ... OK
* checking for missing documentation entries ... OK
* checking for code/documentation mismatches ... OK
* checking Rd \usage sections ... OK
* checking Rd contents ... OK
* checking for unstated dependencies in examples ... OK
* checking contents of ‘data’ directory ... OK
* checking data for non-ASCII characters ... OK
* checking data for ASCII and uncompressed saves ... OK
* checking sizes of PDF files under ‘inst/doc’ ... OK
* checking files in ‘vignettes’ ... OK
* checking examples ... OK
Examples with CPU or elapsed time > 5s
user system elapsed
classify 7.646 0.485 6.468
* checking for unstated dependencies in vignettes ... OK
* checking package vignettes in ‘inst/doc’ ... OK
* checking running R code from vignettes ... SKIPPED
* checking re-building of vignette outputs ... SKIPPED
* checking PDF version of manual ... OK
* DONE
Status: 4 NOTEs
See
‘/Users/biocbuild/bbs-3.9-bioc/meat/BioSeqClass.Rcheck/00check.log’
for details.
BioSeqClass.Rcheck/00install.out
############################################################################## ############################################################################## ### ### Running command: ### ### /Library/Frameworks/R.framework/Versions/Current/Resources/bin/R CMD INSTALL BioSeqClass ### ############################################################################## ############################################################################## * installing to library ‘/Library/Frameworks/R.framework/Versions/3.6/Resources/library’ * installing *source* package ‘BioSeqClass’ ... ** R ** data ** inst ** byte-compile and prepare package for lazy loading ** help *** installing help indices ** building package indices ** installing vignettes ** testing if installed package can be loaded * DONE (BioSeqClass)
BioSeqClass.Rcheck/BioSeqClass-Ex.timings
| name | user | system | elapsed | |
| basic | 0.749 | 0.029 | 0.783 | |
| classify | 7.646 | 0.485 | 6.468 | |
| featureAAindex | 0.001 | 0.000 | 0.002 | |
| featureBDNAVIDEO | 0.001 | 0.000 | 0.000 | |
| featureBinary | 0.000 | 0.000 | 0.001 | |
| featureCKSAAP | 0.000 | 0.000 | 0.001 | |
| featureCTD | 0.001 | 0.000 | 0.001 | |
| featureDIPRODB | 0 | 0 | 0 | |
| featureDOMAIN | 0.000 | 0.001 | 0.001 | |
| featureEvaluate | 0.023 | 0.000 | 0.024 | |
| featureFragmentComposition | 0.001 | 0.000 | 0.001 | |
| featureGapPairComposition | 0.001 | 0.000 | 0.001 | |
| featureHydro | 0.002 | 0.001 | 0.002 | |
| featurePSSM | 0.001 | 0.000 | 0.001 | |
| featurePseudoAAComp | 0.001 | 0.000 | 0.001 | |
| featureSSC | 0.005 | 0.000 | 0.005 | |
| hr | 0.006 | 0.001 | 0.007 | |
| model | 1.153 | 0.028 | 1.186 | |
| performance | 0.899 | 0.012 | 0.917 | |
| selectFFS | 0.339 | 0.014 | 0.354 | |