| Back to Multiple platform build/check report for BioC 3.9 |
|
This page was generated on 2019-04-09 12:38:39 -0400 (Tue, 09 Apr 2019).
| Package 162/1703 | Hostname | OS / Arch | INSTALL | BUILD | CHECK | BUILD BIN | ||||||
| BioNetStat 1.3.2 Vinicius Jardim
| malbec2 | Linux (Ubuntu 18.04.2 LTS) / x86_64 | OK | OK | OK | |||||||
| tokay2 | Windows Server 2012 R2 Standard / x64 | [ OK ] | OK | OK | OK | |||||||
| celaya2 | OS X 10.11.6 El Capitan / x86_64 | OK | OK | OK | OK | |||||||
| merida2 | OS X 10.11.6 El Capitan / x86_64 | OK | OK | OK | OK |
| Package: BioNetStat |
| Version: 1.3.2 |
| Command: C:\cygwin\bin\curl.exe -O https://malbec2.bioconductor.org/BBS/3.9/bioc/src/contrib/BioNetStat_1.3.2.tar.gz && rm -rf BioNetStat.buildbin-libdir && mkdir BioNetStat.buildbin-libdir && C:\Users\biocbuild\bbs-3.9-bioc\R\bin\R.exe CMD INSTALL --merge-multiarch --build --library=BioNetStat.buildbin-libdir BioNetStat_1.3.2.tar.gz && C:\Users\biocbuild\bbs-3.9-bioc\R\bin\R.exe CMD INSTALL BioNetStat_1.3.2.zip && rm BioNetStat_1.3.2.tar.gz BioNetStat_1.3.2.zip |
| StartedAt: 2019-04-08 19:33:12 -0400 (Mon, 08 Apr 2019) |
| EndedAt: 2019-04-08 19:35:39 -0400 (Mon, 08 Apr 2019) |
| EllapsedTime: 146.7 seconds |
| RetCode: 0 |
| Status: OK |
##############################################################################
##############################################################################
###
### Running command:
###
### C:\cygwin\bin\curl.exe -O https://malbec2.bioconductor.org/BBS/3.9/bioc/src/contrib/BioNetStat_1.3.2.tar.gz && rm -rf BioNetStat.buildbin-libdir && mkdir BioNetStat.buildbin-libdir && C:\Users\biocbuild\bbs-3.9-bioc\R\bin\R.exe CMD INSTALL --merge-multiarch --build --library=BioNetStat.buildbin-libdir BioNetStat_1.3.2.tar.gz && C:\Users\biocbuild\bbs-3.9-bioc\R\bin\R.exe CMD INSTALL BioNetStat_1.3.2.zip && rm BioNetStat_1.3.2.tar.gz BioNetStat_1.3.2.zip
###
##############################################################################
##############################################################################
% Total % Received % Xferd Average Speed Time Time Time Current
Dload Upload Total Spent Left Speed
0 0 0 0 0 0 0 0 --:--:-- --:--:-- --:--:-- 0
100 2699k 100 2699k 0 0 31.4M 0 --:--:-- --:--:-- --:--:-- 34.2M
install for i386
* installing *source* package 'BioNetStat' ...
** R
** data
** inst
** byte-compile and prepare package for lazy loading
** help
*** installing help indices
converting help for package 'BioNetStat'
finding HTML links ... done
KLdegree html
KLspectrum html
adjacencyMatrix html
bnsDataTest html
centralityPathPlot html
diffNetAnalysis html
doLabels html
labels html
nDegreeDensities html
nSpectralDensities html
networkFeature html
networkTest html
nodeScores html
nodeTest html
pathPlot html
readGmtFile html
readVarFile html
runBioNetStat html
varFile html
** building package indices
** installing vignettes
'BNS_tutorial_by_command_line.Rmd' using 'UTF-8'
'vignette.Rmd' using 'UTF-8'
** testing if installed package can be loaded from temporary location
** testing if installed package can be loaded from final location
** testing if installed package keeps a record of temporary installation path
install for x64
* installing *source* package 'BioNetStat' ...
** testing if installed package can be loaded
* MD5 sums
packaged installation of 'BioNetStat' as BioNetStat_1.3.2.zip
* DONE (BioNetStat)
* installing to library 'C:/Users/biocbuild/bbs-3.9-bioc/R/library'
package 'BioNetStat' successfully unpacked and MD5 sums checked