| Back to Multiple platform build/check report for BioC 3.9 |
|
This page was generated on 2019-04-09 13:20:20 -0400 (Tue, 09 Apr 2019).
| Package 162/1703 | Hostname | OS / Arch | INSTALL | BUILD | CHECK | BUILD BIN | ||||||
| BioNetStat 1.3.2 Vinicius Jardim
| malbec2 | Linux (Ubuntu 18.04.2 LTS) / x86_64 | OK | OK | OK | |||||||
| tokay2 | Windows Server 2012 R2 Standard / x64 | OK | OK | OK | OK | |||||||
| celaya2 | OS X 10.11.6 El Capitan / x86_64 | OK | OK | [ OK ] | OK | |||||||
| merida2 | OS X 10.11.6 El Capitan / x86_64 | OK | OK | OK | OK |
| Package: BioNetStat |
| Version: 1.3.2 |
| Command: /Library/Frameworks/R.framework/Versions/Current/Resources/bin/R CMD check --install=check:BioNetStat.install-out.txt --library=/Library/Frameworks/R.framework/Versions/Current/Resources/library --no-vignettes --timings BioNetStat_1.3.2.tar.gz |
| StartedAt: 2019-04-09 00:14:27 -0400 (Tue, 09 Apr 2019) |
| EndedAt: 2019-04-09 00:19:34 -0400 (Tue, 09 Apr 2019) |
| EllapsedTime: 307.0 seconds |
| RetCode: 0 |
| Status: OK |
| CheckDir: BioNetStat.Rcheck |
| Warnings: 0 |
##############################################################################
##############################################################################
###
### Running command:
###
### /Library/Frameworks/R.framework/Versions/Current/Resources/bin/R CMD check --install=check:BioNetStat.install-out.txt --library=/Library/Frameworks/R.framework/Versions/Current/Resources/library --no-vignettes --timings BioNetStat_1.3.2.tar.gz
###
##############################################################################
##############################################################################
* using log directory ‘/Users/biocbuild/bbs-3.9-bioc/meat/BioNetStat.Rcheck’
* using R Under development (unstable) (2019-03-18 r76245)
* using platform: x86_64-apple-darwin15.6.0 (64-bit)
* using session charset: UTF-8
* using option ‘--no-vignettes’
* checking for file ‘BioNetStat/DESCRIPTION’ ... OK
* checking extension type ... Package
* this is package ‘BioNetStat’ version ‘1.3.2’
* package encoding: UTF-8
* checking package namespace information ... OK
* checking package dependencies ... OK
* checking if this is a source package ... OK
* checking if there is a namespace ... OK
* checking for hidden files and directories ... OK
* checking for portable file names ... OK
* checking for sufficient/correct file permissions ... OK
* checking whether package ‘BioNetStat’ can be installed ... OK
* checking installed package size ... NOTE
installed size is 5.1Mb
sub-directories of 1Mb or more:
extdata 1.9Mb
shiny 1.6Mb
* checking package directory ... OK
* checking ‘build’ directory ... OK
* checking DESCRIPTION meta-information ... OK
* checking top-level files ... OK
* checking for left-over files ... OK
* checking index information ... OK
* checking package subdirectories ... OK
* checking R files for non-ASCII characters ... OK
* checking R files for syntax errors ... OK
* checking whether the package can be loaded ... OK
* checking whether the package can be loaded with stated dependencies ... OK
* checking whether the package can be unloaded cleanly ... OK
* checking whether the namespace can be loaded with stated dependencies ... OK
* checking whether the namespace can be unloaded cleanly ... OK
* checking dependencies in R code ... OK
* checking S3 generic/method consistency ... OK
* checking replacement functions ... OK
* checking foreign function calls ... OK
* checking R code for possible problems ... OK
* checking Rd files ... OK
* checking Rd metadata ... OK
* checking Rd cross-references ... OK
* checking for missing documentation entries ... OK
* checking for code/documentation mismatches ... OK
* checking Rd \usage sections ... OK
* checking Rd contents ... OK
* checking for unstated dependencies in examples ... OK
* checking contents of ‘data’ directory ... OK
* checking data for non-ASCII characters ... OK
* checking data for ASCII and uncompressed saves ... OK
* checking installed files from ‘inst/doc’ ... OK
* checking files in ‘vignettes’ ... OK
* checking examples ... OK
Examples with CPU or elapsed time > 5s
user system elapsed
centralityPathPlot 14.554 4.085 19.546
pathPlot 9.119 3.073 12.135
* checking for unstated dependencies in vignettes ... OK
* checking package vignettes in ‘inst/doc’ ... OK
* checking running R code from vignettes ... SKIPPED
* checking re-building of vignette outputs ... SKIPPED
* checking PDF version of manual ... OK
* DONE
Status: 1 NOTE
See
‘/Users/biocbuild/bbs-3.9-bioc/meat/BioNetStat.Rcheck/00check.log’
for details.
BioNetStat.Rcheck/00install.out
############################################################################## ############################################################################## ### ### Running command: ### ### /Library/Frameworks/R.framework/Versions/Current/Resources/bin/R CMD INSTALL BioNetStat ### ############################################################################## ############################################################################## * installing to library ‘/Library/Frameworks/R.framework/Versions/3.6/Resources/library’ * installing *source* package ‘BioNetStat’ ... ** using staged installation ** R ** data ** inst ** byte-compile and prepare package for lazy loading ** help *** installing help indices ** building package indices ** installing vignettes ‘BNS_tutorial_by_command_line.Rmd’ using ‘UTF-8’ ‘vignette.Rmd’ using ‘UTF-8’ ** testing if installed package can be loaded from temporary location ** testing if installed package can be loaded from final location ** testing if installed package keeps a record of temporary installation path * DONE (BioNetStat)
BioNetStat.Rcheck/BioNetStat-Ex.timings
| name | user | system | elapsed | |
| KLdegree | 0.021 | 0.006 | 0.028 | |
| KLspectrum | 0.051 | 0.012 | 0.063 | |
| adjacencyMatrix | 0.003 | 0.001 | 0.003 | |
| centralityPathPlot | 14.554 | 4.085 | 19.546 | |
| diffNetAnalysis | 2.163 | 0.571 | 2.282 | |
| doLabels | 0.197 | 0.051 | 0.250 | |
| labels | 0.003 | 0.006 | 0.009 | |
| nDegreeDensities | 0.046 | 0.016 | 0.062 | |
| nSpectralDensities | 0.037 | 0.010 | 0.048 | |
| networkFeature | 0.181 | 0.045 | 0.226 | |
| networkTest | 0.644 | 0.223 | 0.872 | |
| nodeScores | 0.117 | 0.037 | 0.154 | |
| nodeTest | 0.369 | 0.133 | 0.503 | |
| pathPlot | 9.119 | 3.073 | 12.135 | |
| readGmtFile | 0.135 | 0.004 | 0.140 | |
| readVarFile | 0.186 | 0.009 | 0.195 | |
| runBioNetStat | 0.000 | 0.000 | 0.001 | |
| varFile | 0.007 | 0.003 | 0.010 | |