| Back to Multiple platform build/check report for BioC 3.9 |
|
This page was generated on 2019-04-09 12:44:13 -0400 (Tue, 09 Apr 2019).
| Package 158/1703 | Hostname | OS / Arch | INSTALL | BUILD | CHECK | BUILD BIN | ||||||
| BioMM 0.99.11 Junfang Chen
| malbec2 | Linux (Ubuntu 18.04.2 LTS) / x86_64 | OK | OK | OK | |||||||
| tokay2 | Windows Server 2012 R2 Standard / x64 | OK | OK | OK | [ OK ] | |||||||
| celaya2 | OS X 10.11.6 El Capitan / x86_64 | OK | OK | OK | OK | |||||||
| merida2 | OS X 10.11.6 El Capitan / x86_64 | OK | OK | OK | OK |
| Package: BioMM |
| Version: 0.99.11 |
| Command: rm -rf BioMM.buildbin-libdir && mkdir BioMM.buildbin-libdir && C:\Users\biocbuild\bbs-3.9-bioc\R\bin\R.exe CMD INSTALL --merge-multiarch --build --library=BioMM.buildbin-libdir BioMM_0.99.11.tar.gz |
| StartedAt: 2019-04-09 07:31:03 -0400 (Tue, 09 Apr 2019) |
| EndedAt: 2019-04-09 07:31:44 -0400 (Tue, 09 Apr 2019) |
| EllapsedTime: 40.6 seconds |
| RetCode: 0 |
| Status: OK |
| PackageFile: BioMM_0.99.11.zip |
| PackageFileSize: 3.614 MiB |
##############################################################################
##############################################################################
###
### Running command:
###
### rm -rf BioMM.buildbin-libdir && mkdir BioMM.buildbin-libdir && C:\Users\biocbuild\bbs-3.9-bioc\R\bin\R.exe CMD INSTALL --merge-multiarch --build --library=BioMM.buildbin-libdir BioMM_0.99.11.tar.gz
###
##############################################################################
##############################################################################
install for i386
* installing *source* package 'BioMM' ...
** R
** inst
** byte-compile and prepare package for lazy loading
** help
*** installing help indices
converting help for package 'BioMM'
finding HTML links ... done
BioMM html
BioMMreconData html
BioMMstage1pca html
BioMMstage2pred html
baseGLMnet html
baseModel html
baseRandForest html
baseSVM html
classifiACC html
getDataAfterFS html
getMetrics html
omics2chrlist html
omics2genelist html
omics2pathlist html
plotRankedFeature html
plotVarExplained html
predByBS html
predByCV html
predByFS html
** building package indices
** installing vignettes
** testing if installed package can be loaded from temporary location
** testing if installed package can be loaded from final location
** testing if installed package keeps a record of temporary installation path
install for x64
* installing *source* package 'BioMM' ...
** testing if installed package can be loaded
* MD5 sums
packaged installation of 'BioMM' as BioMM_0.99.11.zip
* DONE (BioMM)