| Back to Multiple platform build/check report for BioC 3.9 |
|
This page was generated on 2019-04-09 13:21:49 -0400 (Tue, 09 Apr 2019).
| Package 158/1703 | Hostname | OS / Arch | INSTALL | BUILD | CHECK | BUILD BIN | ||||||
| BioMM 0.99.11 Junfang Chen
| malbec2 | Linux (Ubuntu 18.04.2 LTS) / x86_64 | OK | OK | OK | |||||||
| tokay2 | Windows Server 2012 R2 Standard / x64 | OK | OK | OK | OK | |||||||
| celaya2 | OS X 10.11.6 El Capitan / x86_64 | OK | OK | [ OK ] | OK | |||||||
| merida2 | OS X 10.11.6 El Capitan / x86_64 | OK | OK | OK | OK |
| Package: BioMM |
| Version: 0.99.11 |
| Command: /Library/Frameworks/R.framework/Versions/Current/Resources/bin/R CMD check --install=check:BioMM.install-out.txt --library=/Library/Frameworks/R.framework/Versions/Current/Resources/library --no-vignettes --timings BioMM_0.99.11.tar.gz |
| StartedAt: 2019-04-09 00:13:47 -0400 (Tue, 09 Apr 2019) |
| EndedAt: 2019-04-09 00:16:42 -0400 (Tue, 09 Apr 2019) |
| EllapsedTime: 174.5 seconds |
| RetCode: 0 |
| Status: OK |
| CheckDir: BioMM.Rcheck |
| Warnings: 0 |
##############################################################################
##############################################################################
###
### Running command:
###
### /Library/Frameworks/R.framework/Versions/Current/Resources/bin/R CMD check --install=check:BioMM.install-out.txt --library=/Library/Frameworks/R.framework/Versions/Current/Resources/library --no-vignettes --timings BioMM_0.99.11.tar.gz
###
##############################################################################
##############################################################################
* using log directory ‘/Users/biocbuild/bbs-3.9-bioc/meat/BioMM.Rcheck’
* using R Under development (unstable) (2019-03-18 r76245)
* using platform: x86_64-apple-darwin15.6.0 (64-bit)
* using session charset: UTF-8
* using option ‘--no-vignettes’
* checking for file ‘BioMM/DESCRIPTION’ ... OK
* checking extension type ... Package
* this is package ‘BioMM’ version ‘0.99.11’
* package encoding: UTF-8
* checking package namespace information ... OK
* checking package dependencies ... OK
* checking if this is a source package ... OK
* checking if there is a namespace ... OK
* checking for hidden files and directories ... OK
* checking for portable file names ... OK
* checking for sufficient/correct file permissions ... OK
* checking whether package ‘BioMM’ can be installed ... OK
* checking installed package size ... OK
* checking package directory ... OK
* checking ‘build’ directory ... OK
* checking DESCRIPTION meta-information ... OK
* checking top-level files ... OK
* checking for left-over files ... OK
* checking index information ... OK
* checking package subdirectories ... OK
* checking R files for non-ASCII characters ... OK
* checking R files for syntax errors ... OK
* checking whether the package can be loaded ... OK
* checking whether the package can be loaded with stated dependencies ... OK
* checking whether the package can be unloaded cleanly ... OK
* checking whether the namespace can be loaded with stated dependencies ... OK
* checking whether the namespace can be unloaded cleanly ... OK
* checking dependencies in R code ... OK
* checking S3 generic/method consistency ... OK
* checking replacement functions ... OK
* checking foreign function calls ... OK
* checking R code for possible problems ... OK
* checking Rd files ... OK
* checking Rd metadata ... OK
* checking Rd cross-references ... OK
* checking for missing documentation entries ... OK
* checking for code/documentation mismatches ... OK
* checking Rd \usage sections ... OK
* checking Rd contents ... OK
* checking for unstated dependencies in examples ... OK
* checking files in ‘vignettes’ ... OK
* checking examples ... OK
Examples with CPU or elapsed time > 5s
user system elapsed
predByBS 43.548 35.963 7.612
predByFS 11.517 8.351 1.226
getMetrics 7.223 7.613 2.772
BioMMstage1pca 7.587 5.811 3.910
getDataAfterFS 6.705 3.381 2.364
* checking for unstated dependencies in ‘tests’ ... OK
* checking tests ...
Running ‘runTest.R’
OK
* checking for unstated dependencies in vignettes ... OK
* checking package vignettes in ‘inst/doc’ ... OK
* checking running R code from vignettes ... SKIPPED
* checking re-building of vignette outputs ... SKIPPED
* checking PDF version of manual ... OK
* DONE
Status: OK
BioMM.Rcheck/00install.out
############################################################################## ############################################################################## ### ### Running command: ### ### /Library/Frameworks/R.framework/Versions/Current/Resources/bin/R CMD INSTALL BioMM ### ############################################################################## ############################################################################## * installing to library ‘/Library/Frameworks/R.framework/Versions/3.6/Resources/library’ * installing *source* package ‘BioMM’ ... ** using staged installation ** R ** inst ** byte-compile and prepare package for lazy loading ** help *** installing help indices ** building package indices ** installing vignettes ** testing if installed package can be loaded from temporary location ** testing if installed package can be loaded from final location ** testing if installed package keeps a record of temporary installation path * DONE (BioMM)
BioMM.Rcheck/tests/runTest.Rout
R Under development (unstable) (2019-03-18 r76245) -- "Unsuffered Consequences"
Copyright (C) 2019 The R Foundation for Statistical Computing
Platform: x86_64-apple-darwin15.6.0 (64-bit)
R is free software and comes with ABSOLUTELY NO WARRANTY.
You are welcome to redistribute it under certain conditions.
Type 'license()' or 'licence()' for distribution details.
R is a collaborative project with many contributors.
Type 'contributors()' for more information and
'citation()' on how to cite R or R packages in publications.
Type 'demo()' for some demos, 'help()' for on-line help, or
'help.start()' for an HTML browser interface to help.
Type 'q()' to quit R.
> BiocGenerics:::testPackage("BioMM")
RUNIT TEST PROTOCOL -- Tue Apr 9 00:16:33 2019
***********************************************
Number of test functions: 2
Number of errors: 0
Number of failures: 0
1 Test Suite :
BioMM RUnit Tests - 2 test functions, 0 errors, 0 failures
Number of test functions: 2
Number of errors: 0
Number of failures: 0
>
> proc.time()
user system elapsed
6.187 0.775 6.862
BioMM.Rcheck/BioMM-Ex.timings
| name | user | system | elapsed | |
| BioMM | 0.309 | 0.023 | 0.335 | |
| BioMMreconData | 0.609 | 0.070 | 0.681 | |
| BioMMstage1pca | 7.587 | 5.811 | 3.910 | |
| baseGLMnet | 0.891 | 0.123 | 1.015 | |
| baseModel | 0.966 | 0.214 | 1.107 | |
| baseRandForest | 0.587 | 0.128 | 0.640 | |
| baseSVM | 1.643 | 0.151 | 1.794 | |
| classifiACC | 0.363 | 0.200 | 1.392 | |
| getDataAfterFS | 6.705 | 3.381 | 2.364 | |
| getMetrics | 7.223 | 7.613 | 2.772 | |
| omics2chrlist | 0.458 | 0.060 | 0.519 | |
| omics2genelist | 0.246 | 0.011 | 0.257 | |
| omics2pathlist | 0.652 | 0.059 | 0.713 | |
| predByBS | 43.548 | 35.963 | 7.612 | |
| predByCV | 0.505 | 0.405 | 2.948 | |
| predByFS | 11.517 | 8.351 | 1.226 | |