| Back to Multiple platform build/check report for BioC 3.9 |
|
This page was generated on 2019-04-09 12:26:12 -0400 (Tue, 09 Apr 2019).
| Package 97/1703 | Hostname | OS / Arch | INSTALL | BUILD | CHECK | BUILD BIN | ||||||
| BadRegionFinder 1.11.0 Sarah Sandmann
| malbec2 | Linux (Ubuntu 18.04.2 LTS) / x86_64 | OK | OK | OK | |||||||
| tokay2 | Windows Server 2012 R2 Standard / x64 | OK | OK | OK | [ OK ] | |||||||
| celaya2 | OS X 10.11.6 El Capitan / x86_64 | OK | OK | OK | OK | |||||||
| merida2 | OS X 10.11.6 El Capitan / x86_64 | OK | OK | OK | OK |
| Package: BadRegionFinder |
| Version: 1.11.0 |
| Command: rm -rf BadRegionFinder.buildbin-libdir && mkdir BadRegionFinder.buildbin-libdir && C:\Users\biocbuild\bbs-3.9-bioc\R\bin\R.exe CMD INSTALL --merge-multiarch --build --library=BadRegionFinder.buildbin-libdir BadRegionFinder_1.11.0.tar.gz |
| StartedAt: 2019-04-09 07:27:38 -0400 (Tue, 09 Apr 2019) |
| EndedAt: 2019-04-09 07:28:23 -0400 (Tue, 09 Apr 2019) |
| EllapsedTime: 44.7 seconds |
| RetCode: 0 |
| Status: OK |
| PackageFile: BadRegionFinder_1.11.0.zip |
| PackageFileSize: 887.2 KiB |
##############################################################################
##############################################################################
###
### Running command:
###
### rm -rf BadRegionFinder.buildbin-libdir && mkdir BadRegionFinder.buildbin-libdir && C:\Users\biocbuild\bbs-3.9-bioc\R\bin\R.exe CMD INSTALL --merge-multiarch --build --library=BadRegionFinder.buildbin-libdir BadRegionFinder_1.11.0.tar.gz
###
##############################################################################
##############################################################################
install for i386
* installing *source* package 'BadRegionFinder' ...
** R
** inst
** byte-compile and prepare package for lazy loading
** help
*** installing help indices
converting help for package 'BadRegionFinder'
finding HTML links ... done
BadRegionFinder-package html
determineCoverage html
determineCoverageQuality html
determineQuantiles html
determineRegionsOfInterest html
plotDetailed html
plotSummary html
plotSummaryGenes html
reportBadRegionsDetailed html
reportBadRegionsGenes html
reportBadRegionsSummary html
** building package indices
** installing vignettes
** testing if installed package can be loaded from temporary location
** testing if installed package can be loaded from final location
** testing if installed package keeps a record of temporary installation path
install for x64
* installing *source* package 'BadRegionFinder' ...
** testing if installed package can be loaded
* MD5 sums
packaged installation of 'BadRegionFinder' as BadRegionFinder_1.11.0.zip
* DONE (BadRegionFinder)