| Back to Multiple platform build/check report for BioC 3.9 | 
 | 
This page was generated on 2019-04-09 13:33:07 -0400 (Tue, 09 Apr 2019).
| Package 97/1703 | Hostname | OS / Arch | INSTALL | BUILD | CHECK | BUILD BIN | ||||||
| BadRegionFinder 1.11.0 Sarah Sandmann 
 | malbec2 | Linux (Ubuntu 18.04.2 LTS) / x86_64 | OK | OK | OK |  | ||||||
| tokay2 | Windows Server 2012 R2 Standard / x64 | OK | OK | OK | OK |  | ||||||
| celaya2 | OS X 10.11.6 El Capitan / x86_64 | OK | OK | OK | OK |  | ||||||
| merida2 | OS X 10.11.6 El Capitan / x86_64 | OK | OK | OK | [ OK ] | 
| Package: BadRegionFinder | 
| Version: 1.11.0 | 
| Command: rm -rf BadRegionFinder.buildbin-libdir && mkdir BadRegionFinder.buildbin-libdir && /Users/biocbuild/BBS/utils/build-universal.sh BadRegionFinder_1.11.0.tar.gz /Library/Frameworks/R.framework/Versions/Current/Resources/bin/R BadRegionFinder.buildbin-libdir | 
| StartedAt: 2019-04-09 04:45:10 -0400 (Tue, 09 Apr 2019) | 
| EndedAt: 2019-04-09 04:46:36 -0400 (Tue, 09 Apr 2019) | 
| EllapsedTime: 85.8 seconds | 
| RetCode: 0 | 
| Status: OK | 
| PackageFile: BadRegionFinder_1.11.0.tgz | 
| PackageFileSize: 878.1 KiB | 
############################################################################## ############################################################################## ### ### Running command: ### ### rm -rf BadRegionFinder.buildbin-libdir && mkdir BadRegionFinder.buildbin-libdir && /Users/biocbuild/BBS/utils/build-universal.sh BadRegionFinder_1.11.0.tar.gz /Library/Frameworks/R.framework/Versions/Current/Resources/bin/R BadRegionFinder.buildbin-libdir ### ############################################################################## ############################################################################## >>>>>>> >>>>>>> INSTALLATION WITH 'R CMD INSTALL --preclean --no-multiarch --library=BadRegionFinder.buildbin-libdir BadRegionFinder_1.11.0.tar.gz' >>>>>>> * installing *source* package ‘BadRegionFinder’ ... ** R ** inst ** byte-compile and prepare package for lazy loading ** help *** installing help indices ** building package indices ** installing vignettes ** testing if installed package can be loaded * DONE (BadRegionFinder)