| Back to Multiple platform build/check report for BioC 3.9 |
|
This page was generated on 2019-04-09 12:24:05 -0400 (Tue, 09 Apr 2019).
| Package 123/1703 | Hostname | OS / Arch | INSTALL | BUILD | CHECK | BUILD BIN | ||||||
| BEclear 1.99.2 David Rasp
| malbec2 | Linux (Ubuntu 18.04.2 LTS) / x86_64 | ERROR | ERROR | skipped | |||||||
| tokay2 | Windows Server 2012 R2 Standard / x64 | ERROR | [ ERROR ] | skipped | skipped | |||||||
| celaya2 | OS X 10.11.6 El Capitan / x86_64 | ERROR | ERROR | skipped | skipped | |||||||
| merida2 | OS X 10.11.6 El Capitan / x86_64 | ERROR | ERROR | skipped | skipped |
| Package: BEclear |
| Version: 1.99.2 |
| Command: chmod a+r BEclear -R && C:\Users\biocbuild\bbs-3.9-bioc\R\bin\R.exe CMD build --keep-empty-dirs --no-resave-data BEclear |
| StartedAt: 2019-04-08 22:51:33 -0400 (Mon, 08 Apr 2019) |
| EndedAt: 2019-04-08 22:51:53 -0400 (Mon, 08 Apr 2019) |
| EllapsedTime: 20.4 seconds |
| RetCode: 1 |
| Status: ERROR |
| PackageFile: BEclear_1.99.2.tar.gz |
| PackageFileSize: 206 KiB |
##############################################################################
##############################################################################
###
### Running command:
###
### chmod a+r BEclear -R && C:\Users\biocbuild\bbs-3.9-bioc\R\bin\R.exe CMD build --keep-empty-dirs --no-resave-data BEclear
###
##############################################################################
##############################################################################
* checking for file 'BEclear/DESCRIPTION' ... OK
* preparing 'BEclear':
* checking DESCRIPTION meta-information ... OK
* cleaning src
* installing the package to process help pages
-----------------------------------
* installing *source* package 'BEclear' ...
** libs
C:/Rtools/mingw_64/bin/g++ -std=gnu++11 -I"C:/Users/BIOCBU˜1/BBS-3˜1.9-B/R/include" -DNDEBUG -I"C:/Users/biocbuild/bbs-3.9-bioc/R/library/Rcpp/include" -I"C:/extsoft/include" -O2 -Wall -mtune=generic -c RcppExports.cpp -o RcppExports.o
RcppExports.cpp:4:27: fatal error: RcppArmadillo.h: No such file or directory
#include <RcppArmadillo.h>
^
compilation terminated.
make: *** [RcppExports.o] Error 1
ERROR: compilation failed for package 'BEclear'
* removing 'C:/Users/biocbuild/bbs-3.9-bioc/tmpdir/RtmpgDDTVt/Rinstde825b8536b/BEclear'
-----------------------------------
ERROR: package installation failed