| Back to Multiple platform build/check report for BioC 3.9 |
|
This page was generated on 2019-04-09 13:14:10 -0400 (Tue, 09 Apr 2019).
| Package 123/1703 | Hostname | OS / Arch | INSTALL | BUILD | CHECK | BUILD BIN | ||||||
| BEclear 1.99.2 David Rasp
| malbec2 | Linux (Ubuntu 18.04.2 LTS) / x86_64 | ERROR | ERROR | skipped | |||||||
| tokay2 | Windows Server 2012 R2 Standard / x64 | ERROR | ERROR | skipped | skipped | |||||||
| celaya2 | OS X 10.11.6 El Capitan / x86_64 | ERROR | [ ERROR ] | skipped | skipped | |||||||
| merida2 | OS X 10.11.6 El Capitan / x86_64 | ERROR | ERROR | skipped | skipped |
| Package: BEclear |
| Version: 1.99.2 |
| Command: /Library/Frameworks/R.framework/Versions/Current/Resources/bin/R CMD build --keep-empty-dirs --no-resave-data BEclear |
| StartedAt: 2019-04-08 21:20:49 -0400 (Mon, 08 Apr 2019) |
| EndedAt: 2019-04-08 21:21:00 -0400 (Mon, 08 Apr 2019) |
| EllapsedTime: 10.8 seconds |
| RetCode: 1 |
| Status: ERROR |
| PackageFile: None |
| PackageFileSize: NA |
##############################################################################
##############################################################################
###
### Running command:
###
### /Library/Frameworks/R.framework/Versions/Current/Resources/bin/R CMD build --keep-empty-dirs --no-resave-data BEclear
###
##############################################################################
##############################################################################
* checking for file ‘BEclear/DESCRIPTION’ ... OK
* preparing ‘BEclear’:
* checking DESCRIPTION meta-information ... OK
* cleaning src
* installing the package to process help pages
-----------------------------------
* installing *source* package ‘BEclear’ ...
** using staged installation
** libs
clang++ -std=gnu++11 -I"/Library/Frameworks/R.framework/Resources/include" -DNDEBUG -I"/Library/Frameworks/R.framework/Versions/3.6/Resources/library/Rcpp/include" -I/usr/local/include -fPIC -Wall -g -O2 -c RcppExports.cpp -o RcppExports.o
RcppExports.cpp:4:10: fatal error: 'RcppArmadillo.h' file not found
#include <RcppArmadillo.h>
^˜˜˜˜˜˜˜˜˜˜˜˜˜˜˜˜
1 error generated.
make: *** [RcppExports.o] Error 1
ERROR: compilation failed for package ‘BEclear’
* removing ‘/private/tmp/RtmpfhQs0O/Rinst634e53f5edd4/BEclear’
-----------------------------------
ERROR: package installation failed