| Back to Multiple platform build/check report for BioC 3.9 | 
 | 
This page was generated on 2019-04-09 12:00:06 -0400 (Tue, 09 Apr 2019).
| Package 82/1703 | Hostname | OS / Arch | INSTALL | BUILD | CHECK | BUILD BIN | ||||||
| ASEB 1.27.0 Likun Wang 
 | malbec2 | Linux (Ubuntu 18.04.2 LTS) / x86_64 | OK | OK | OK |  | ||||||
| tokay2 | Windows Server 2012 R2 Standard / x64 | OK | OK | OK | [ OK ] |  | ||||||
| celaya2 | OS X 10.11.6 El Capitan / x86_64 | OK | OK | OK | OK |  | ||||||
| merida2 | OS X 10.11.6 El Capitan / x86_64 | OK | OK | OK | OK | 
| Package: ASEB | 
| Version: 1.27.0 | 
| Command: rm -rf ASEB.buildbin-libdir && mkdir ASEB.buildbin-libdir && C:\Users\biocbuild\bbs-3.9-bioc\R\bin\R.exe CMD INSTALL --merge-multiarch --build --library=ASEB.buildbin-libdir ASEB_1.27.0.tar.gz | 
| StartedAt: 2019-04-09 07:26:46 -0400 (Tue, 09 Apr 2019) | 
| EndedAt: 2019-04-09 07:27:08 -0400 (Tue, 09 Apr 2019) | 
| EllapsedTime: 22.4 seconds | 
| RetCode: 0 | 
| Status: OK | 
| PackageFile: ASEB_1.27.0.zip | 
| PackageFileSize: 1.088 MiB | 
##############################################################################
##############################################################################
###
### Running command:
###
###   rm -rf ASEB.buildbin-libdir && mkdir ASEB.buildbin-libdir && C:\Users\biocbuild\bbs-3.9-bioc\R\bin\R.exe CMD INSTALL --merge-multiarch --build --library=ASEB.buildbin-libdir ASEB_1.27.0.tar.gz
###
##############################################################################
##############################################################################
install for i386
* installing *source* package 'ASEB' ...
** libs
C:/Rtools/mingw_32/bin/g++  -I"C:/Users/BIOCBU˜1/BBS-3˜1.9-B/R/include" -DNDEBUG     -I"C:/extsoft/include"     -O2 -Wall  -mtune=generic -c asebC.cpp -o asebC.o
C:/Rtools/mingw_32/bin/g++ -shared -s -static-libgcc -o ASEB.dll tmp.def asebC.o -LC:/extsoft/lib/i386 -LC:/extsoft/lib -LC:/Users/BIOCBU˜1/BBS-3˜1.9-B/R/bin/i386 -lR
installing to C:/Users/biocbuild/bbs-3.9-bioc/meat/ASEB.buildbin-libdir/00LOCK-ASEB/00new/ASEB/libs/i386
** R
** inst
** byte-compile and prepare package for lazy loading
** help
*** installing help indices
  converting help for package 'ASEB'
    finding HTML links ... done
    SequenceInfo                            html  
    asebProteins                            html  
    asebSites                               html  
    drawEScurve                             html  
    drawStat                                html  
    readSequence                            html  
** building package indices
** installing vignettes
** testing if installed package can be loaded from temporary location
** testing if installed package can be loaded from final location
** testing if installed package keeps a record of temporary installation path
install for x64
* installing *source* package 'ASEB' ...
** libs
C:/Rtools/mingw_64/bin/g++  -I"C:/Users/BIOCBU˜1/BBS-3˜1.9-B/R/include" -DNDEBUG     -I"C:/extsoft/include"     -O2 -Wall  -mtune=generic -c asebC.cpp -o asebC.o
C:/Rtools/mingw_64/bin/g++ -shared -s -static-libgcc -o ASEB.dll tmp.def asebC.o -LC:/extsoft/lib/x64 -LC:/extsoft/lib -LC:/Users/BIOCBU˜1/BBS-3˜1.9-B/R/bin/x64 -lR
installing to C:/Users/biocbuild/bbs-3.9-bioc/meat/ASEB.buildbin-libdir/ASEB/libs/x64
** testing if installed package can be loaded
* MD5 sums
packaged installation of 'ASEB' as ASEB_1.27.0.zip
* DONE (ASEB)