| Back to Multiple platform build/check report for BioC 3.9 | 
 | 
This page was generated on 2019-04-09 13:03:27 -0400 (Tue, 09 Apr 2019).
| Package 82/1703 | Hostname | OS / Arch | INSTALL | BUILD | CHECK | BUILD BIN | ||||||
| ASEB 1.27.0 Likun Wang 
 | malbec2 | Linux (Ubuntu 18.04.2 LTS) / x86_64 | OK | OK | OK |  | ||||||
| tokay2 | Windows Server 2012 R2 Standard / x64 | OK | OK | OK | OK |  | ||||||
| celaya2 | OS X 10.11.6 El Capitan / x86_64 | OK | OK | OK | [ OK ] |  | ||||||
| merida2 | OS X 10.11.6 El Capitan / x86_64 | OK | OK | OK | OK | 
| Package: ASEB | 
| Version: 1.27.0 | 
| Command: rm -rf ASEB.buildbin-libdir && mkdir ASEB.buildbin-libdir && /Users/biocbuild/BBS/utils/build-universal.sh ASEB_1.27.0.tar.gz /Library/Frameworks/R.framework/Versions/Current/Resources/bin/R ASEB.buildbin-libdir | 
| StartedAt: 2019-04-09 06:40:37 -0400 (Tue, 09 Apr 2019) | 
| EndedAt: 2019-04-09 06:41:09 -0400 (Tue, 09 Apr 2019) | 
| EllapsedTime: 32.2 seconds | 
| RetCode: 0 | 
| Status: OK | 
| PackageFile: ASEB_1.27.0.tgz | 
| PackageFileSize: 639.5 KiB | 
############################################################################## ############################################################################## ### ### Running command: ### ### rm -rf ASEB.buildbin-libdir && mkdir ASEB.buildbin-libdir && /Users/biocbuild/BBS/utils/build-universal.sh ASEB_1.27.0.tar.gz /Library/Frameworks/R.framework/Versions/Current/Resources/bin/R ASEB.buildbin-libdir ### ############################################################################## ############################################################################## >>>>>>> >>>>>>> INSTALLATION WITH 'R CMD INSTALL --preclean --no-multiarch --library=ASEB.buildbin-libdir ASEB_1.27.0.tar.gz' >>>>>>> * installing *source* package ‘ASEB’ ... ** using staged installation ** libs clang++ -std=gnu++11 -I"/Library/Frameworks/R.framework/Resources/include" -DNDEBUG -I/usr/local/include -fPIC -Wall -g -O2 -c asebC.cpp -o asebC.o clang++ -std=gnu++11 -dynamiclib -Wl,-headerpad_max_install_names -undefined dynamic_lookup -single_module -multiply_defined suppress -L/Library/Frameworks/R.framework/Resources/lib -L/usr/local/lib -o ASEB.so asebC.o -F/Library/Frameworks/R.framework/.. -framework R -Wl,-framework -Wl,CoreFoundation installing to /Users/biocbuild/bbs-3.9-bioc/meat/ASEB.buildbin-libdir/00LOCK-ASEB/00new/ASEB/libs ** R ** inst ** byte-compile and prepare package for lazy loading ** help *** installing help indices ** building package indices ** installing vignettes ** testing if installed package can be loaded from temporary location ** checking absolute paths in shared objects and dynamic libraries ** testing if installed package can be loaded from final location ** testing if installed package keeps a record of temporary installation path * DONE (ASEB) >>>>>>> >>>>>>> FIXING LINKS FOR ASEB.buildbin-libdir/ASEB/libs//ASEB.so >>>>>>> install_name_tool -change "/usr/local/lib/libgcc_s.1.dylib" "/Library/Frameworks/R.framework/Versions/3.6/Resources/lib/libgcc_s.1.dylib" "ASEB.buildbin-libdir/ASEB/libs//ASEB.so" install_name_tool -change "/usr/local/lib/libgfortran.3.dylib" "/Library/Frameworks/R.framework/Versions/3.6/Resources/lib/libgfortran.3.dylib" "ASEB.buildbin-libdir/ASEB/libs//ASEB.so" install_name_tool -change "/usr/local/lib/libreadline.5.2.dylib" "/Library/Frameworks/R.framework/Versions/3.6/Resources/lib/libreadline.5.2.dylib" "ASEB.buildbin-libdir/ASEB/libs//ASEB.so" install_name_tool -change "/usr/local/lib/libreadline.dylib" "/Library/Frameworks/R.framework/Versions/3.6/Resources/lib/libreadline.dylib" "ASEB.buildbin-libdir/ASEB/libs//ASEB.so" install_name_tool -change "/usr/local/lib/libquadmath.0.dylib" "/Library/Frameworks/R.framework/Versions/3.6/Resources/lib/libquadmath.0.dylib" "ASEB.buildbin-libdir/ASEB/libs//ASEB.so"