| Back to Workflows build report for BioC 3.8 |
This page was generated on 2019-01-30 16:00:23 -0500 (Wed, 30 Jan 2019).
| Package 5/23 | Hostname | OS / Arch | INSTALL | BUILD | ||||||
| cytofWorkflow 1.4.1 Malgorzata Nowicka
| malbec1 | Linux (Ubuntu 16.04.1 LTS) / x86_64 | OK | OK | ||||||
| tokay1 | Windows Server 2012 R2 Standard / x64 | [ OK ] | OK |
| Package: cytofWorkflow |
| Version: 1.4.1 |
| Command: C:\cygwin\bin\curl.exe -O https://malbec1.bioconductor.org/BBS/3.8/workflows/src/contrib/cytofWorkflow_1.4.1.tar.gz && rm -rf cytofWorkflow.buildbin-libdir && mkdir cytofWorkflow.buildbin-libdir && C:\Users\biocbuild\bbs-3.8-bioc\R\bin\R.exe CMD INSTALL --merge-multiarch --build --library=cytofWorkflow.buildbin-libdir cytofWorkflow_1.4.1.tar.gz && C:\Users\biocbuild\bbs-3.8-bioc\R\bin\R.exe CMD INSTALL cytofWorkflow_1.4.1.zip && rm cytofWorkflow_1.4.1.tar.gz cytofWorkflow_1.4.1.zip |
| StartedAt: 2019-01-30 07:57:40 -0500 (Wed, 30 Jan 2019) |
| EndedAt: 2019-01-30 07:57:59 -0500 (Wed, 30 Jan 2019) |
| EllapsedTime: 19.7 seconds |
| RetCode: 0 |
| Status: OK |
##############################################################################
##############################################################################
###
### Running command:
###
### C:\cygwin\bin\curl.exe -O https://malbec1.bioconductor.org/BBS/3.8/workflows/src/contrib/cytofWorkflow_1.4.1.tar.gz && rm -rf cytofWorkflow.buildbin-libdir && mkdir cytofWorkflow.buildbin-libdir && C:\Users\biocbuild\bbs-3.8-bioc\R\bin\R.exe CMD INSTALL --merge-multiarch --build --library=cytofWorkflow.buildbin-libdir cytofWorkflow_1.4.1.tar.gz && C:\Users\biocbuild\bbs-3.8-bioc\R\bin\R.exe CMD INSTALL cytofWorkflow_1.4.1.zip && rm cytofWorkflow_1.4.1.tar.gz cytofWorkflow_1.4.1.zip
###
##############################################################################
##############################################################################
% Total % Received % Xferd Average Speed Time Time Time Current
Dload Upload Total Spent Left Speed
0 0 0 0 0 0 0 0 --:--:-- --:--:-- --:--:-- 0
100 64989 100 64989 0 0 1906k 0 --:--:-- --:--:-- --:--:-- 2188k
install for i386
* installing *source* package 'cytofWorkflow' ...
** help
No man pages found in package 'cytofWorkflow'
*** installing help indices
** building package indices
** installing vignettes
** testing if installed package can be loaded
Warning: replacing previous import 'ggplot2::scale_discrete_manual' by 'ggridges::scale_discrete_manual' when loading 'cytofWorkflow'
In R CMD INSTALL
install for x64
* installing *source* package 'cytofWorkflow' ...
** testing if installed package can be loaded
Warning: replacing previous import 'ggplot2::scale_discrete_manual' by 'ggridges::scale_discrete_manual' when loading 'cytofWorkflow'
* MD5 sums
packaged installation of 'cytofWorkflow' as cytofWorkflow_1.4.1.zip
* DONE (cytofWorkflow)
In R CMD INSTALL
In R CMD INSTALL
* installing to library 'C:/Users/biocbuild/bbs-3.8-bioc/R/library'
package 'cytofWorkflow' successfully unpacked and MD5 sums checked
In R CMD INSTALL