| Back to Workflows build report for BioC 3.8 |
This page was generated on 2019-04-16 17:26:32 -0400 (Tue, 16 Apr 2019).
| Package 5/23 | Hostname | OS / Arch | INSTALL | BUILD | ||||||
| cytofWorkflow 1.4.1 Malgorzata Nowicka
| malbec1 | Linux (Ubuntu 16.04.6 LTS) / x86_64 | OK | [ OK ] |
| Package: cytofWorkflow |
| Version: 1.4.1 |
| Command: /home/biocbuild/bbs-3.8-bioc/R/bin/R CMD build --keep-empty-dirs --no-resave-data cytofWorkflow |
| StartedAt: 2019-04-16 16:35:46 -0400 (Tue, 16 Apr 2019) |
| EndedAt: 2019-04-16 16:44:31 -0400 (Tue, 16 Apr 2019) |
| EllapsedTime: 524.4 seconds |
| RetCode: 0 |
| Status: OK |
| PackageFile: cytofWorkflow_1.4.1.tar.gz |
| PackageFileSize: 7.485 MiB |
############################################################################## ############################################################################## ### ### Running command: ### ### /home/biocbuild/bbs-3.8-bioc/R/bin/R CMD build --keep-empty-dirs --no-resave-data cytofWorkflow ### ############################################################################## ############################################################################## * checking for file ‘cytofWorkflow/DESCRIPTION’ ... OK * preparing ‘cytofWorkflow’: * checking DESCRIPTION meta-information ... OK * installing the package to build vignettes * creating vignettes ... OK * checking for LF line-endings in source and make files and shell scripts * checking for empty or unneeded directories * building ‘cytofWorkflow_1.4.1.tar.gz’