| Back to Workflows build report for BioC 3.8 |
This page was generated on 2019-01-30 16:00:25 -0500 (Wed, 30 Jan 2019).
| Package 21/23 | Hostname | OS / Arch | INSTALL | BUILD | ||||||
| simpleSingleCell 1.4.1 Aaron Lun
| malbec1 | Linux (Ubuntu 16.04.1 LTS) / x86_64 | OK | OK | ||||||
| tokay1 | Windows Server 2012 R2 Standard / x64 | [ OK ] | TIMEOUT |
| Package: simpleSingleCell |
| Version: 1.4.1 |
| Command: C:\cygwin\bin\curl.exe -O https://malbec1.bioconductor.org/BBS/3.8/workflows/src/contrib/simpleSingleCell_1.4.1.tar.gz && rm -rf simpleSingleCell.buildbin-libdir && mkdir simpleSingleCell.buildbin-libdir && C:\Users\biocbuild\bbs-3.8-bioc\R\bin\R.exe CMD INSTALL --merge-multiarch --build --library=simpleSingleCell.buildbin-libdir simpleSingleCell_1.4.1.tar.gz && C:\Users\biocbuild\bbs-3.8-bioc\R\bin\R.exe CMD INSTALL simpleSingleCell_1.4.1.zip && rm simpleSingleCell_1.4.1.tar.gz simpleSingleCell_1.4.1.zip |
| StartedAt: 2019-01-30 07:58:19 -0500 (Wed, 30 Jan 2019) |
| EndedAt: 2019-01-30 07:59:54 -0500 (Wed, 30 Jan 2019) |
| EllapsedTime: 94.7 seconds |
| RetCode: 0 |
| Status: OK |
##############################################################################
##############################################################################
###
### Running command:
###
### C:\cygwin\bin\curl.exe -O https://malbec1.bioconductor.org/BBS/3.8/workflows/src/contrib/simpleSingleCell_1.4.1.tar.gz && rm -rf simpleSingleCell.buildbin-libdir && mkdir simpleSingleCell.buildbin-libdir && C:\Users\biocbuild\bbs-3.8-bioc\R\bin\R.exe CMD INSTALL --merge-multiarch --build --library=simpleSingleCell.buildbin-libdir simpleSingleCell_1.4.1.tar.gz && C:\Users\biocbuild\bbs-3.8-bioc\R\bin\R.exe CMD INSTALL simpleSingleCell_1.4.1.zip && rm simpleSingleCell_1.4.1.tar.gz simpleSingleCell_1.4.1.zip
###
##############################################################################
##############################################################################
% Total % Received % Xferd Average Speed Time Time Time Current
Dload Upload Total Spent Left Speed
0 0 0 0 0 0 0 0 --:--:-- --:--:-- --:--:-- 0
100 81928 100 81928 0 0 2361k 0 --:--:-- --:--:-- --:--:-- 2758k
install for i386
* installing *source* package 'simpleSingleCell' ...
** inst
** help
No man pages found in package 'simpleSingleCell'
*** installing help indices
** building package indices
** installing vignettes
** testing if installed package can be loaded
In R CMD INSTALL
install for x64
* installing *source* package 'simpleSingleCell' ...
** testing if installed package can be loaded
* MD5 sums
packaged installation of 'simpleSingleCell' as simpleSingleCell_1.4.1.zip
* DONE (simpleSingleCell)
In R CMD INSTALL
In R CMD INSTALL
* installing to library 'C:/Users/biocbuild/bbs-3.8-bioc/R/library'
package 'simpleSingleCell' successfully unpacked and MD5 sums checked
In R CMD INSTALL