| Back to Workflows build report for BioC 3.8 |
This page was generated on 2019-01-30 16:00:24 -0500 (Wed, 30 Jan 2019).
| Package 13/23 | Hostname | OS / Arch | INSTALL | BUILD | ||||||
| methylationArrayAnalysis 1.4.0 Jovana Maksimovic
| malbec1 | Linux (Ubuntu 16.04.1 LTS) / x86_64 | OK | OK | ||||||
| tokay1 | Windows Server 2012 R2 Standard / x64 | [ OK ] | OK |
| Package: methylationArrayAnalysis |
| Version: 1.4.0 |
| Command: C:\cygwin\bin\curl.exe -O https://malbec1.bioconductor.org/BBS/3.8/workflows/src/contrib/methylationArrayAnalysis_1.4.0.tar.gz && rm -rf methylationArrayAnalysis.buildbin-libdir && mkdir methylationArrayAnalysis.buildbin-libdir && C:\Users\biocbuild\bbs-3.8-bioc\R\bin\R.exe CMD INSTALL --merge-multiarch --build --library=methylationArrayAnalysis.buildbin-libdir methylationArrayAnalysis_1.4.0.tar.gz && C:\Users\biocbuild\bbs-3.8-bioc\R\bin\R.exe CMD INSTALL methylationArrayAnalysis_1.4.0.zip && rm methylationArrayAnalysis_1.4.0.tar.gz methylationArrayAnalysis_1.4.0.zip |
| StartedAt: 2019-01-30 07:58:00 -0500 (Wed, 30 Jan 2019) |
| EndedAt: 2019-01-30 08:04:18 -0500 (Wed, 30 Jan 2019) |
| EllapsedTime: 378.1 seconds |
| RetCode: 0 |
| Status: OK |
##############################################################################
##############################################################################
###
### Running command:
###
### C:\cygwin\bin\curl.exe -O https://malbec1.bioconductor.org/BBS/3.8/workflows/src/contrib/methylationArrayAnalysis_1.4.0.tar.gz && rm -rf methylationArrayAnalysis.buildbin-libdir && mkdir methylationArrayAnalysis.buildbin-libdir && C:\Users\biocbuild\bbs-3.8-bioc\R\bin\R.exe CMD INSTALL --merge-multiarch --build --library=methylationArrayAnalysis.buildbin-libdir methylationArrayAnalysis_1.4.0.tar.gz && C:\Users\biocbuild\bbs-3.8-bioc\R\bin\R.exe CMD INSTALL methylationArrayAnalysis_1.4.0.zip && rm methylationArrayAnalysis_1.4.0.tar.gz methylationArrayAnalysis_1.4.0.zip
###
##############################################################################
##############################################################################
% Total % Received % Xferd Average Speed Time Time Time Current
Dload Upload Total Spent Left Speed
0 0 0 0 0 0 0 0 --:--:-- --:--:-- --:--:-- 0
18 216M 18 39.3M 0 0 103M 0 0:00:02 --:--:-- 0:00:02 104M
69 216M 69 151M 0 0 109M 0 0:00:01 0:00:01 --:--:-- 109M
100 216M 100 216M 0 0 106M 0 0:00:02 0:00:02 --:--:-- 106M
install for i386
* installing *source* package 'methylationArrayAnalysis' ...
** inst
** help
No man pages found in package 'methylationArrayAnalysis'
*** installing help indices
** building package indices
** installing vignettes
** testing if installed package can be loaded
In R CMD INSTALL
install for x64
* installing *source* package 'methylationArrayAnalysis' ...
** testing if installed package can be loaded
* MD5 sums
packaged installation of 'methylationArrayAnalysis' as methylationArrayAnalysis_1.4.0.zip
* DONE (methylationArrayAnalysis)
In R CMD INSTALL
In R CMD INSTALL
* installing to library 'C:/Users/biocbuild/bbs-3.8-bioc/R/library'
package 'methylationArrayAnalysis' successfully unpacked and MD5 sums checked
In R CMD INSTALL