| Back to Workflows build report for BioC 3.8 |
This page was generated on 2018-05-18 09:51:45 -0400 (Fri, 18 May 2018).
| Package 9/21 | Hostname | OS / Arch | INSTALL | BUILD | ||||||
| generegulation 1.3.0 Bioconductor Package Maintainer
| malbec1 | Linux (Ubuntu 16.04.1 LTS) / x86_64 | OK | OK |
| Package: generegulation |
| Version: 1.3.0 |
| Command: /home/biocbuild/bbs-3.8-bioc/R/bin/R -q -e 'rmarkdown::render(".buildwebvig/generegulation/generegulation.Rmd", output_format="BiocStyle:::html_fragment")' && /home/biocbuild/bbs-3.8-bioc/R/bin/R -q -e 'knitr::purl(".buildwebvig/generegulation/generegulation.Rmd", ".buildwebvig/generegulation/generegulation.R")' |
| StartedAt: 2018-05-18 08:43:42 -0400 (Fri, 18 May 2018) |
| EndedAt: 2018-05-18 08:44:15 -0400 (Fri, 18 May 2018) |
| EllapsedTime: 33.5 seconds |
| RetCode: 0 |
| Status: OK |
##############################################################################
##############################################################################
###
### Running command:
###
### /home/biocbuild/bbs-3.8-bioc/R/bin/R -q -e 'rmarkdown::render(".buildwebvig/generegulation/generegulation.Rmd", output_format="BiocStyle:::html_fragment")' && /home/biocbuild/bbs-3.8-bioc/R/bin/R -q -e 'knitr::purl(".buildwebvig/generegulation/generegulation.Rmd", ".buildwebvig/generegulation/generegulation.R")'
###
##############################################################################
##############################################################################
> rmarkdown::render(".buildwebvig/generegulation/generegulation.Rmd", output_format="BiocStyle:::html_fragment")
processing file: generegulation.Rmd
|
| | 0%
|
|. | 2%
ordinary text without R code
|
|... | 4%
label: unnamed-chunk-1 (with options)
List of 3
$ echo : logi FALSE
$ results: chr "hide"
$ warning: logi FALSE
|
|.... | 6%
inline R code fragments
|
|..... | 8%
label: unnamed-chunk-2 (with options)
List of 1
$ echo: logi FALSE
|
|....... | 10%
ordinary text without R code
|
|........ | 12%
label: unnamed-chunk-3 (with options)
List of 1
$ echo: logi FALSE
|
|.......... | 14%
ordinary text without R code
|
|........... | 16%
label: unnamed-chunk-4 (with options)
List of 1
$ eval: logi FALSE
|
|............ | 18%
ordinary text without R code
|
|.............. | 20%
label: unnamed-chunk-5 (with options)
List of 1
$ echo: logi FALSE
|
|............... | 22%
ordinary text without R code
|
|................ | 24%
label: unnamed-chunk-6
|
|.................. | 25%
ordinary text without R code
|
|................... | 27%
label: unnamed-chunk-7
|
|..................... | 29%
ordinary text without R code
|
|...................... | 31%
label: unnamed-chunk-8
|
|....................... | 33%
ordinary text without R code
|
|......................... | 35%
label: unnamed-chunk-9
|
|.......................... | 37%
ordinary text without R code
|
|........................... | 39%
label: unnamed-chunk-10 (with options)
List of 1
$ dev: chr "jpeg"
|
|............................. | 41%
ordinary text without R code
|
|.............................. | 43%
label: unnamed-chunk-11
|
|................................ | 45%
ordinary text without R code
|
|................................. | 47%
label: unnamed-chunk-12 (with options)
List of 1
$ dev: chr "jpeg"
|
|.................................. | 49%
ordinary text without R code
|
|.................................... | 51%
label: unnamed-chunk-13
|
|..................................... | 53%
ordinary text without R code
|
|...................................... | 55%
label: unnamed-chunk-14
|
|........................................ | 57%
ordinary text without R code
|
|......................................... | 59%
label: unnamed-chunk-15
|
|........................................... | 61%
ordinary text without R code
|
|............................................ | 63%
label: unnamed-chunk-16
|
|............................................. | 65%
ordinary text without R code
|
|............................................... | 67%
label: unnamed-chunk-17
|
|................................................ | 69%
ordinary text without R code
|
|................................................. | 71%
label: unnamed-chunk-18
|
|................................................... | 73%
ordinary text without R code
|
|.................................................... | 75%
label: unnamed-chunk-19
|
|...................................................... | 76%
ordinary text without R code
|
|....................................................... | 78%
label: unnamed-chunk-20
|
|........................................................ | 80%
ordinary text without R code
|
|.......................................................... | 82%
label: unnamed-chunk-21
|
|........................................................... | 84%
ordinary text without R code
|
|............................................................ | 86%
label: unnamed-chunk-22
|
|.............................................................. | 88%
ordinary text without R code
|
|............................................................... | 90%
label: unnamed-chunk-23 (with options)
List of 1
$ eval: logi FALSE
|
|................................................................. | 92%
ordinary text without R code
|
|.................................................................. | 94%
label: unnamed-chunk-24 (with options)
List of 1
$ eval: logi FALSE
|
|................................................................... | 96%
ordinary text without R code
|
|..................................................................... | 98%
label: unnamed-chunk-25
|
|......................................................................| 100%
ordinary text without R code
output file: generegulation.knit.md
/usr/bin/pandoc +RTS -K512m -RTS generegulation.utf8.md --to html4 --from markdown+autolink_bare_uris+ascii_identifiers+tex_math_single_backslash+smart --output generegulation.html --email-obfuscation none --self-contained --wrap preserve --standalone --section-divs --table-of-contents --toc-depth 3 --template /home/biocbuild/bbs-3.8-bioc/R/library/BiocStyle/resources/fragment.html --no-highlight --number-sections --mathjax --variable 'mathjax-url:https://mathjax.rstudio.com/latest/MathJax.js?config=TeX-AMS-MML_HTMLorMML'
Output created: generegulation.html
>
>
> knitr::purl(".buildwebvig/generegulation/generegulation.Rmd", ".buildwebvig/generegulation/generegulation.R")
processing file: .buildwebvig/generegulation/generegulation.Rmd
|
| | 0%
|
|. | 2%
|
|... | 4%
|
|.... | 6%
|
|..... | 8%
|
|...... | 10%
|
|........ | 12%
|
|......... | 14%
|
|.......... | 16%
|
|........... | 18%
|
|............. | 20%
|
|.............. | 22%
|
|............... | 24%
|
|................. | 25%
|
|.................. | 27%
|
|................... | 29%
|
|.................... | 31%
|
|...................... | 33%
|
|....................... | 35%
|
|........................ | 37%
|
|......................... | 39%
|
|........................... | 41%
|
|............................ | 43%
|
|............................. | 45%
|
|............................... | 47%
|
|................................ | 49%
|
|................................. | 51%
|
|.................................. | 53%
|
|.................................... | 55%
|
|..................................... | 57%
|
|...................................... | 59%
|
|........................................ | 61%
|
|......................................... | 63%
|
|.......................................... | 65%
|
|........................................... | 67%
|
|............................................. | 69%
|
|.............................................. | 71%
|
|............................................... | 73%
|
|................................................ | 75%
|
|.................................................. | 76%
|
|................................................... | 78%
|
|.................................................... | 80%
|
|...................................................... | 82%
|
|....................................................... | 84%
|
|........................................................ | 86%
|
|......................................................... | 88%
|
|........................................................... | 90%
|
|............................................................ | 92%
|
|............................................................. | 94%
|
|.............................................................. | 96%
|
|................................................................ | 98%
|
|.................................................................| 100%
output file: .buildwebvig/generegulation/generegulation.R
[1] ".buildwebvig/generegulation/generegulation.R"
>
>