| Back to Workflows build report for BioC 3.8 |
This page was generated on 2019-01-30 16:00:23 -0500 (Wed, 30 Jan 2019).
| Package 2/23 | Hostname | OS / Arch | INSTALL | BUILD | ||||||
| arrays 1.6.0 Bioconductor Package Maintainer
| malbec1 | Linux (Ubuntu 16.04.1 LTS) / x86_64 | OK | OK | ||||||
| tokay1 | Windows Server 2012 R2 Standard / x64 | [ OK ] | OK |
| Package: arrays |
| Version: 1.6.0 |
| Command: C:\cygwin\bin\curl.exe -O https://malbec1.bioconductor.org/BBS/3.8/workflows/src/contrib/arrays_1.6.0.tar.gz && rm -rf arrays.buildbin-libdir && mkdir arrays.buildbin-libdir && C:\Users\biocbuild\bbs-3.8-bioc\R\bin\R.exe CMD INSTALL --merge-multiarch --build --library=arrays.buildbin-libdir arrays_1.6.0.tar.gz && C:\Users\biocbuild\bbs-3.8-bioc\R\bin\R.exe CMD INSTALL arrays_1.6.0.zip && rm arrays_1.6.0.tar.gz arrays_1.6.0.zip |
| StartedAt: 2019-01-30 07:57:39 -0500 (Wed, 30 Jan 2019) |
| EndedAt: 2019-01-30 07:59:17 -0500 (Wed, 30 Jan 2019) |
| EllapsedTime: 98.3 seconds |
| RetCode: 0 |
| Status: OK |
##############################################################################
##############################################################################
###
### Running command:
###
### C:\cygwin\bin\curl.exe -O https://malbec1.bioconductor.org/BBS/3.8/workflows/src/contrib/arrays_1.6.0.tar.gz && rm -rf arrays.buildbin-libdir && mkdir arrays.buildbin-libdir && C:\Users\biocbuild\bbs-3.8-bioc\R\bin\R.exe CMD INSTALL --merge-multiarch --build --library=arrays.buildbin-libdir arrays_1.6.0.tar.gz && C:\Users\biocbuild\bbs-3.8-bioc\R\bin\R.exe CMD INSTALL arrays_1.6.0.zip && rm arrays_1.6.0.tar.gz arrays_1.6.0.zip
###
##############################################################################
##############################################################################
% Total % Received % Xferd Average Speed Time Time Time Current
Dload Upload Total Spent Left Speed
0 0 0 0 0 0 0 0 --:--:-- --:--:-- --:--:-- 0
100 9947k 100 9947k 0 0 76.8M 0 --:--:-- --:--:-- --:--:-- 79.6M
install for i386
* installing *source* package 'arrays' ...
** inst
** help
No man pages found in package 'arrays'
*** installing help indices
** building package indices
** installing vignettes
** testing if installed package can be loaded
In R CMD INSTALL
install for x64
* installing *source* package 'arrays' ...
** testing if installed package can be loaded
* MD5 sums
packaged installation of 'arrays' as arrays_1.6.0.zip
* DONE (arrays)
In R CMD INSTALL
In R CMD INSTALL
* installing to library 'C:/Users/biocbuild/bbs-3.8-bioc/R/library'
package 'arrays' successfully unpacked and MD5 sums checked
In R CMD INSTALL