| Back to Workflows build report for BioC 3.8 | 
This page was generated on 2019-01-30 16:00:25 -0500 (Wed, 30 Jan 2019).
| Package 19/23 | Hostname | OS / Arch | INSTALL | BUILD | ||||||
| RnaSeqGeneEdgeRQL 1.4.1 Yunshun Chen 
  | malbec1 | Linux (Ubuntu 16.04.1 LTS) / x86_64 | OK | OK | ||||||
| tokay1 | Windows Server 2012 R2 Standard / x64 | [ OK ] | OK | 
| Package: RnaSeqGeneEdgeRQL | 
| Version: 1.4.1 | 
| Command: C:\cygwin\bin\curl.exe -O https://malbec1.bioconductor.org/BBS/3.8/workflows/src/contrib/RnaSeqGeneEdgeRQL_1.4.1.tar.gz && rm -rf RnaSeqGeneEdgeRQL.buildbin-libdir && mkdir RnaSeqGeneEdgeRQL.buildbin-libdir && C:\Users\biocbuild\bbs-3.8-bioc\R\bin\R.exe CMD INSTALL --merge-multiarch --build --library=RnaSeqGeneEdgeRQL.buildbin-libdir RnaSeqGeneEdgeRQL_1.4.1.tar.gz && C:\Users\biocbuild\bbs-3.8-bioc\R\bin\R.exe CMD INSTALL RnaSeqGeneEdgeRQL_1.4.1.zip && rm RnaSeqGeneEdgeRQL_1.4.1.tar.gz RnaSeqGeneEdgeRQL_1.4.1.zip | 
| StartedAt: 2019-01-30 07:57:39 -0500 (Wed, 30 Jan 2019) | 
| EndedAt: 2019-01-30 07:57:58 -0500 (Wed, 30 Jan 2019) | 
| EllapsedTime: 19.1 seconds | 
| RetCode: 0 | 
| Status: OK | 
##############################################################################
##############################################################################
###
### Running command:
###
###   C:\cygwin\bin\curl.exe -O https://malbec1.bioconductor.org/BBS/3.8/workflows/src/contrib/RnaSeqGeneEdgeRQL_1.4.1.tar.gz && rm -rf RnaSeqGeneEdgeRQL.buildbin-libdir && mkdir RnaSeqGeneEdgeRQL.buildbin-libdir && C:\Users\biocbuild\bbs-3.8-bioc\R\bin\R.exe CMD INSTALL --merge-multiarch --build --library=RnaSeqGeneEdgeRQL.buildbin-libdir RnaSeqGeneEdgeRQL_1.4.1.tar.gz && C:\Users\biocbuild\bbs-3.8-bioc\R\bin\R.exe CMD INSTALL RnaSeqGeneEdgeRQL_1.4.1.zip && rm RnaSeqGeneEdgeRQL_1.4.1.tar.gz RnaSeqGeneEdgeRQL_1.4.1.zip
###
##############################################################################
##############################################################################
  % Total    % Received % Xferd  Average Speed   Time    Time     Time  Current
                                 Dload  Upload   Total   Spent    Left  Speed
  0     0    0     0    0     0      0      0 --:--:-- --:--:-- --:--:--     0
100  204k  100  204k    0     0  6243k      0 --:--:-- --:--:-- --:--:-- 7042k
install for i386
* installing *source* package 'RnaSeqGeneEdgeRQL' ...
** inst
** help
No man pages found in package  'RnaSeqGeneEdgeRQL' 
*** installing help indices
** building package indices
** installing vignettes
** testing if installed package can be loaded
In R CMD INSTALL
install for x64
* installing *source* package 'RnaSeqGeneEdgeRQL' ...
** testing if installed package can be loaded
* MD5 sums
packaged installation of 'RnaSeqGeneEdgeRQL' as RnaSeqGeneEdgeRQL_1.4.1.zip
* DONE (RnaSeqGeneEdgeRQL)
In R CMD INSTALL
In R CMD INSTALL
* installing to library 'C:/Users/biocbuild/bbs-3.8-bioc/R/library'
package 'RnaSeqGeneEdgeRQL' successfully unpacked and MD5 sums checked
In R CMD INSTALL