| Back to Multiple platform build/check report for BioC 3.8 |
|
This page was generated on 2019-04-16 11:55:05 -0400 (Tue, 16 Apr 2019).
| Package 1164/1649 | Hostname | OS / Arch | INSTALL | BUILD | CHECK | BUILD BIN | ||||||
| plateCore 1.40.1 Errol Strain
| malbec1 | Linux (Ubuntu 16.04.6 LTS) / x86_64 | OK | OK | WARNINGS | |||||||
| merida1 | OS X 10.11.6 El Capitan / x86_64 | OK | OK | WARNINGS | [ OK ] |
| Package: plateCore |
| Version: 1.40.1 |
| Command: rm -rf plateCore.buildbin-libdir && mkdir plateCore.buildbin-libdir && /Users/biocbuild/BBS/utils/build-universal.sh plateCore_1.40.1.tar.gz /Library/Frameworks/R.framework/Versions/Current/Resources/bin/R plateCore.buildbin-libdir |
| StartedAt: 2019-04-16 04:32:17 -0400 (Tue, 16 Apr 2019) |
| EndedAt: 2019-04-16 04:33:02 -0400 (Tue, 16 Apr 2019) |
| EllapsedTime: 45.2 seconds |
| RetCode: 0 |
| Status: OK |
| PackageFile: plateCore_1.40.1.tgz |
| PackageFileSize: 1.508 MiB |
############################################################################## ############################################################################## ### ### Running command: ### ### rm -rf plateCore.buildbin-libdir && mkdir plateCore.buildbin-libdir && /Users/biocbuild/BBS/utils/build-universal.sh plateCore_1.40.1.tar.gz /Library/Frameworks/R.framework/Versions/Current/Resources/bin/R plateCore.buildbin-libdir ### ############################################################################## ############################################################################## >>>>>>> >>>>>>> INSTALLATION WITH 'R CMD INSTALL --preclean --no-multiarch --library=plateCore.buildbin-libdir plateCore_1.40.1.tar.gz' >>>>>>> * installing *source* package ‘plateCore’ ... ** R ** data ** inst ** byte-compile and prepare package for lazy loading No methods found in package ‘flowStats’ for request: ‘%on%’ when loading ‘plateCore’ ** help *** installing help indices ** building package indices ** installing vignettes ** testing if installed package can be loaded No methods found in package ‘flowStats’ for request: ‘%on%’ when loading ‘plateCore’ * DONE (plateCore)