| Back to Multiple platform build/check report for BioC 3.8 | 
 | 
This page was generated on 2019-04-16 11:54:16 -0400 (Tue, 16 Apr 2019).
| Package 758/1649 | Hostname | OS / Arch | INSTALL | BUILD | CHECK | BUILD BIN | ||||||
| idiogram 1.58.0 Karl J. Dykema 
 | malbec1 | Linux (Ubuntu 16.04.6 LTS) / x86_64 | OK | OK | OK |  | ||||||
| merida1 | OS X 10.11.6 El Capitan / x86_64 | OK | [ OK ] | OK | OK |  | 
| Package: idiogram | 
| Version: 1.58.0 | 
| Command: /Library/Frameworks/R.framework/Versions/Current/Resources/bin/R CMD build --keep-empty-dirs --no-resave-data idiogram | 
| StartedAt: 2019-04-15 18:57:39 -0400 (Mon, 15 Apr 2019) | 
| EndedAt: 2019-04-15 18:58:22 -0400 (Mon, 15 Apr 2019) | 
| EllapsedTime: 42.4 seconds | 
| RetCode: 0 | 
| Status: OK | 
| PackageFile: idiogram_1.58.0.tar.gz | 
| PackageFileSize: 1.739 MiB | 
############################################################################## ############################################################################## ### ### Running command: ### ### /Library/Frameworks/R.framework/Versions/Current/Resources/bin/R CMD build --keep-empty-dirs --no-resave-data idiogram ### ############################################################################## ############################################################################## * checking for file ‘idiogram/DESCRIPTION’ ... OK * preparing ‘idiogram’: * checking DESCRIPTION meta-information ... OK * installing the package to build vignettes * creating vignettes ... OK * checking for LF line-endings in source and make files and shell scripts * checking for empty or unneeded directories * looking to see if a ‘data/datalist’ file should be added * building ‘idiogram_1.58.0.tar.gz’