| Back to Multiple platform build/check report for BioC 3.8 | 
 | 
This page was generated on 2019-04-16 11:54:17 -0400 (Tue, 16 Apr 2019).
| Package 758/1649 | Hostname | OS / Arch | INSTALL | BUILD | CHECK | BUILD BIN | ||||||
| idiogram 1.58.0 Karl J. Dykema 
 | malbec1 | Linux (Ubuntu 16.04.6 LTS) / x86_64 | OK | OK | OK |  | ||||||
| merida1 | OS X 10.11.6 El Capitan / x86_64 | OK | OK | OK | [ OK ] |  | 
| Package: idiogram | 
| Version: 1.58.0 | 
| Command: rm -rf idiogram.buildbin-libdir && mkdir idiogram.buildbin-libdir && /Users/biocbuild/BBS/utils/build-universal.sh idiogram_1.58.0.tar.gz /Library/Frameworks/R.framework/Versions/Current/Resources/bin/R idiogram.buildbin-libdir | 
| StartedAt: 2019-04-16 04:13:49 -0400 (Tue, 16 Apr 2019) | 
| EndedAt: 2019-04-16 04:14:38 -0400 (Tue, 16 Apr 2019) | 
| EllapsedTime: 48.5 seconds | 
| RetCode: 0 | 
| Status: OK | 
| PackageFile: idiogram_1.58.0.tgz | 
| PackageFileSize: 3.706 MiB | 
############################################################################## ############################################################################## ### ### Running command: ### ### rm -rf idiogram.buildbin-libdir && mkdir idiogram.buildbin-libdir && /Users/biocbuild/BBS/utils/build-universal.sh idiogram_1.58.0.tar.gz /Library/Frameworks/R.framework/Versions/Current/Resources/bin/R idiogram.buildbin-libdir ### ############################################################################## ############################################################################## >>>>>>> >>>>>>> INSTALLATION WITH 'R CMD INSTALL --preclean --no-multiarch --library=idiogram.buildbin-libdir idiogram_1.58.0.tar.gz' >>>>>>> * installing *source* package ‘idiogram’ ... ** R ** data *** moving datasets to lazyload DB ** inst ** byte-compile and prepare package for lazy loading ** help *** installing help indices ** building package indices ** installing vignettes ** testing if installed package can be loaded * DONE (idiogram)