Back to Multiple platform build/check report for BioC 3.8 |
|
This page was generated on 2019-04-13 11:21:41 -0400 (Sat, 13 Apr 2019).
Package 550/1649 | Hostname | OS / Arch | INSTALL | BUILD | CHECK | BUILD BIN | ||||||
flowType 2.20.1 Nima Aghaeepour
| malbec1 | Linux (Ubuntu 16.04.6 LTS) / x86_64 | OK | OK | OK | ![]() | ||||||
tokay1 | Windows Server 2012 R2 Standard / x64 | OK | OK | OK | [ OK ] | ![]() | ||||||
merida1 | OS X 10.11.6 El Capitan / x86_64 | OK | OK | WARNINGS | OK | ![]() |
Package: flowType |
Version: 2.20.1 |
Command: rm -rf flowType.buildbin-libdir && mkdir flowType.buildbin-libdir && C:\Users\biocbuild\bbs-3.8-bioc\R\bin\R.exe CMD INSTALL --merge-multiarch --build --library=flowType.buildbin-libdir flowType_2.20.1.tar.gz |
StartedAt: 2019-04-13 07:16:21 -0400 (Sat, 13 Apr 2019) |
EndedAt: 2019-04-13 07:16:57 -0400 (Sat, 13 Apr 2019) |
EllapsedTime: 36.0 seconds |
RetCode: 0 |
Status: OK |
PackageFile: flowType_2.20.1.zip |
PackageFileSize: 1.732 MiB |
############################################################################## ############################################################################## ### ### Running command: ### ### rm -rf flowType.buildbin-libdir && mkdir flowType.buildbin-libdir && C:\Users\biocbuild\bbs-3.8-bioc\R\bin\R.exe CMD INSTALL --merge-multiarch --build --library=flowType.buildbin-libdir flowType_2.20.1.tar.gz ### ############################################################################## ############################################################################## install for i386 * installing *source* package 'flowType' ... ** libs C:/Rtools/mingw_32/bin/g++ -I"C:/Users/BIOCBU˜1/BBS-3˜1.8-B/R/include" -DNDEBUG -I"C:/Users/biocbuild/bbs-3.8-bioc/R/library/Rcpp/include" -I"C:/Users/biocbuild/bbs-3.8-bioc/R/library/BH/include" -I"C:/extsoft/include" -O2 -Wall -mtune=generic -c countsAndMeans.cpp -o countsAndMeans.o C:/Rtools/mingw_32/bin/g++ -I"C:/Users/BIOCBU˜1/BBS-3˜1.8-B/R/include" -DNDEBUG -I"C:/Users/biocbuild/bbs-3.8-bioc/R/library/Rcpp/include" -I"C:/Users/biocbuild/bbs-3.8-bioc/R/library/BH/include" -I"C:/extsoft/include" -O2 -Wall -mtune=generic -c flowType.cpp -o flowType.o C:/Rtools/mingw_32/bin/g++ -I"C:/Users/BIOCBU˜1/BBS-3˜1.8-B/R/include" -DNDEBUG -I"C:/Users/biocbuild/bbs-3.8-bioc/R/library/Rcpp/include" -I"C:/Users/biocbuild/bbs-3.8-bioc/R/library/BH/include" -I"C:/extsoft/include" -O2 -Wall -mtune=generic -c numberGenerator.cpp -o numberGenerator.o C:/Rtools/mingw_32/bin/g++ -shared -s -static-libgcc -o flowType.dll tmp.def countsAndMeans.o flowType.o numberGenerator.o -LC:/extsoft/lib/i386 -LC:/extsoft/lib -LC:/Users/BIOCBU˜1/BBS-3˜1.8-B/R/bin/i386 -lR installing to C:/Users/biocbuild/bbs-3.8-bioc/meat/flowType.buildbin-libdir/flowType/libs/i386 ** R ** data ** inst ** byte-compile and prepare package for lazy loading ** help *** installing help indices converting help for package 'flowType' finding HTML links ... done DLBCLExample html HIVData html HIVMetaData html Phenotypes html calcMemUse html calcNumPops html decodePhenotype-methods html encodePhenotype html flowType-package html flowType html getLabels html plot html summary-methods html ** building package indices ** installing vignettes ** testing if installed package can be loaded In R CMD INSTALL install for x64 * installing *source* package 'flowType' ... ** libs C:/Rtools/mingw_64/bin/g++ -I"C:/Users/BIOCBU˜1/BBS-3˜1.8-B/R/include" -DNDEBUG -I"C:/Users/biocbuild/bbs-3.8-bioc/R/library/Rcpp/include" -I"C:/Users/biocbuild/bbs-3.8-bioc/R/library/BH/include" -I"C:/extsoft/include" -O2 -Wall -mtune=generic -c countsAndMeans.cpp -o countsAndMeans.o C:/Rtools/mingw_64/bin/g++ -I"C:/Users/BIOCBU˜1/BBS-3˜1.8-B/R/include" -DNDEBUG -I"C:/Users/biocbuild/bbs-3.8-bioc/R/library/Rcpp/include" -I"C:/Users/biocbuild/bbs-3.8-bioc/R/library/BH/include" -I"C:/extsoft/include" -O2 -Wall -mtune=generic -c flowType.cpp -o flowType.o C:/Rtools/mingw_64/bin/g++ -I"C:/Users/BIOCBU˜1/BBS-3˜1.8-B/R/include" -DNDEBUG -I"C:/Users/biocbuild/bbs-3.8-bioc/R/library/Rcpp/include" -I"C:/Users/biocbuild/bbs-3.8-bioc/R/library/BH/include" -I"C:/extsoft/include" -O2 -Wall -mtune=generic -c numberGenerator.cpp -o numberGenerator.o C:/Rtools/mingw_64/bin/g++ -shared -s -static-libgcc -o flowType.dll tmp.def countsAndMeans.o flowType.o numberGenerator.o -LC:/extsoft/lib/x64 -LC:/extsoft/lib -LC:/Users/BIOCBU˜1/BBS-3˜1.8-B/R/bin/x64 -lR installing to C:/Users/biocbuild/bbs-3.8-bioc/meat/flowType.buildbin-libdir/flowType/libs/x64 ** testing if installed package can be loaded * MD5 sums packaged installation of 'flowType' as flowType_2.20.1.zip * DONE (flowType) In R CMD INSTALL In R CMD INSTALL