| Back to Multiple platform build/check report for BioC 3.8 |
|
This page was generated on 2019-04-16 11:55:36 -0400 (Tue, 16 Apr 2019).
| Package 550/1649 | Hostname | OS / Arch | INSTALL | BUILD | CHECK | BUILD BIN | ||||||
| flowType 2.20.1 Nima Aghaeepour
| malbec1 | Linux (Ubuntu 16.04.6 LTS) / x86_64 | OK | OK | OK | |||||||
| merida1 | OS X 10.11.6 El Capitan / x86_64 | [ OK ] | OK | WARNINGS | OK |
| Package: flowType |
| Version: 2.20.1 |
| Command: /Library/Frameworks/R.framework/Versions/Current/Resources/bin/R CMD INSTALL flowType |
| StartedAt: 2019-04-15 18:32:49 -0400 (Mon, 15 Apr 2019) |
| EndedAt: 2019-04-15 18:33:40 -0400 (Mon, 15 Apr 2019) |
| EllapsedTime: 51.0 seconds |
| RetCode: 0 |
| Status: OK |
##############################################################################
##############################################################################
###
### Running command:
###
### /Library/Frameworks/R.framework/Versions/Current/Resources/bin/R CMD INSTALL flowType
###
##############################################################################
##############################################################################
* installing to library ‘/Library/Frameworks/R.framework/Versions/3.5/Resources/library’
* installing *source* package ‘flowType’ ...
** libs
clang++ -I"/Library/Frameworks/R.framework/Resources/include" -DNDEBUG -I"/Library/Frameworks/R.framework/Versions/3.5/Resources/library/Rcpp/include" -I"/Library/Frameworks/R.framework/Versions/3.5/Resources/library/BH/include" -I/usr/local/include -fPIC -Wall -g -O2 -c countsAndMeans.cpp -o countsAndMeans.o
In file included from countsAndMeans.cpp:5:
In file included from /Library/Frameworks/R.framework/Versions/3.5/Resources/library/BH/include/boost/dynamic_bitset.hpp:15:
In file included from /Library/Frameworks/R.framework/Versions/3.5/Resources/library/BH/include/boost/dynamic_bitset/dynamic_bitset.hpp:47:
In file included from /Library/Frameworks/R.framework/Versions/3.5/Resources/library/BH/include/boost/move/move.hpp:30:
In file included from /Library/Frameworks/R.framework/Versions/3.5/Resources/library/BH/include/boost/move/iterator.hpp:27:
/Library/Frameworks/R.framework/Versions/3.5/Resources/library/BH/include/boost/move/detail/iterator_traits.hpp:29:1: warning: inline namespaces are a C++11 feature [-Wc++11-inline-namespace]
BOOST_MOVE_STD_NS_BEG
^
/Library/Frameworks/R.framework/Versions/3.5/Resources/library/BH/include/boost/move/detail/std_ns_begin.hpp:18:34: note: expanded from macro 'BOOST_MOVE_STD_NS_BEG'
#define BOOST_MOVE_STD_NS_BEG _LIBCPP_BEGIN_NAMESPACE_STD
^
/usr/local/clang4/bin/../include/c++/v1/__config:388:52: note: expanded from macro '_LIBCPP_BEGIN_NAMESPACE_STD'
#define _LIBCPP_BEGIN_NAMESPACE_STD namespace std {inline namespace _LIBCPP_NAMESPACE {
^
1 warning generated.
clang++ -I"/Library/Frameworks/R.framework/Resources/include" -DNDEBUG -I"/Library/Frameworks/R.framework/Versions/3.5/Resources/library/Rcpp/include" -I"/Library/Frameworks/R.framework/Versions/3.5/Resources/library/BH/include" -I/usr/local/include -fPIC -Wall -g -O2 -c flowType.cpp -o flowType.o
clang++ -I"/Library/Frameworks/R.framework/Resources/include" -DNDEBUG -I"/Library/Frameworks/R.framework/Versions/3.5/Resources/library/Rcpp/include" -I"/Library/Frameworks/R.framework/Versions/3.5/Resources/library/BH/include" -I/usr/local/include -fPIC -Wall -g -O2 -c numberGenerator.cpp -o numberGenerator.o
clang++ -dynamiclib -Wl,-headerpad_max_install_names -undefined dynamic_lookup -single_module -multiply_defined suppress -L/Library/Frameworks/R.framework/Resources/lib -L/usr/local/lib -o flowType.so countsAndMeans.o flowType.o numberGenerator.o -F/Library/Frameworks/R.framework/.. -framework R -Wl,-framework -Wl,CoreFoundation
installing to /Library/Frameworks/R.framework/Versions/3.5/Resources/library/flowType/libs
** R
** data
** inst
** byte-compile and prepare package for lazy loading
Warning in rgl.init(initValue, onlyNULL) :
RGL: GLX extension missing on server
Warning: 'rgl_init' failed, running with rgl.useNULL = TRUE
** help
*** installing help indices
** building package indices
** installing vignettes
** testing if installed package can be loaded
Warning in rgl.init(initValue, onlyNULL) :
RGL: GLX extension missing on server
Warning: 'rgl_init' failed, running with rgl.useNULL = TRUE
* DONE (flowType)