| Back to Multiple platform build/check report for BioC 3.8 | 
 | 
This page was generated on 2019-04-16 11:50:15 -0400 (Tue, 16 Apr 2019).
| Package 536/1649 | Hostname | OS / Arch | INSTALL | BUILD | CHECK | BUILD BIN | ||||||
| flowMap 1.20.1 Chiaowen Joyce Hsiao 
 | malbec1 | Linux (Ubuntu 16.04.6 LTS) / x86_64 | [ OK ] | OK | WARNINGS |  | ||||||
| merida1 | OS X 10.11.6 El Capitan / x86_64 | OK | OK | WARNINGS | OK |  | 
| Package: flowMap | 
| Version: 1.20.1 | 
| Command: /home/biocbuild/bbs-3.8-bioc/R/bin/R CMD INSTALL flowMap | 
| StartedAt: 2019-04-15 18:01:48 -0400 (Mon, 15 Apr 2019) | 
| EndedAt: 2019-04-15 18:01:54 -0400 (Mon, 15 Apr 2019) | 
| EllapsedTime: 5.5 seconds | 
| RetCode: 0 | 
| Status: OK | 
############################################################################## ############################################################################## ### ### Running command: ### ### /home/biocbuild/bbs-3.8-bioc/R/bin/R CMD INSTALL flowMap ### ############################################################################## ############################################################################## * installing to library ‘/home/biocbuild/bbs-3.8-bioc/R/library’ * installing *source* package ‘flowMap’ ... ** R ** inst ** byte-compile and prepare package for lazy loading ** help *** installing help indices ** building package indices ** installing vignettes ** testing if installed package can be loaded * DONE (flowMap)