| Back to Multiple platform build/check report for BioC 3.8 | 
 | 
This page was generated on 2019-04-16 11:50:15 -0400 (Tue, 16 Apr 2019).
| Package 536/1649 | Hostname | OS / Arch | INSTALL | BUILD | CHECK | BUILD BIN | ||||||
| flowMap 1.20.1 Chiaowen Joyce Hsiao 
 | malbec1 | Linux (Ubuntu 16.04.6 LTS) / x86_64 | OK | [ OK ] | WARNINGS |  | ||||||
| merida1 | OS X 10.11.6 El Capitan / x86_64 | OK | OK | WARNINGS | OK |  | 
| Package: flowMap | 
| Version: 1.20.1 | 
| Command: /home/biocbuild/bbs-3.8-bioc/R/bin/R CMD build --keep-empty-dirs --no-resave-data flowMap | 
| StartedAt: 2019-04-15 19:36:40 -0400 (Mon, 15 Apr 2019) | 
| EndedAt: 2019-04-15 19:37:43 -0400 (Mon, 15 Apr 2019) | 
| EllapsedTime: 63.1 seconds | 
| RetCode: 0 | 
| Status: OK | 
| PackageFile: flowMap_1.20.1.tar.gz | 
| PackageFileSize: 948.7 KiB | 
############################################################################## ############################################################################## ### ### Running command: ### ### /home/biocbuild/bbs-3.8-bioc/R/bin/R CMD build --keep-empty-dirs --no-resave-data flowMap ### ############################################################################## ############################################################################## * checking for file ‘flowMap/DESCRIPTION’ ... OK * preparing ‘flowMap’: * checking DESCRIPTION meta-information ... OK * installing the package to build vignettes * creating vignettes ... OK * checking for LF line-endings in source and make files and shell scripts * checking for empty or unneeded directories * building ‘flowMap_1.20.1.tar.gz’