| Back to Multiple platform build/check report for BioC 3.8 |
|
This page was generated on 2019-04-13 11:24:14 -0400 (Sat, 13 Apr 2019).
| Package 485/1649 | Hostname | OS / Arch | INSTALL | BUILD | CHECK | BUILD BIN | ||||||
| erccdashboard 1.16.1 Sarah Munro
| malbec1 | Linux (Ubuntu 16.04.6 LTS) / x86_64 | OK | OK | OK | |||||||
| tokay1 | Windows Server 2012 R2 Standard / x64 | OK | OK | OK | [ OK ] | |||||||
| merida1 | OS X 10.11.6 El Capitan / x86_64 | OK | OK | OK | OK |
| Package: erccdashboard |
| Version: 1.16.1 |
| Command: rm -rf erccdashboard.buildbin-libdir && mkdir erccdashboard.buildbin-libdir && C:\Users\biocbuild\bbs-3.8-bioc\R\bin\R.exe CMD INSTALL --merge-multiarch --build --library=erccdashboard.buildbin-libdir erccdashboard_1.16.1.tar.gz |
| StartedAt: 2019-04-13 07:14:12 -0400 (Sat, 13 Apr 2019) |
| EndedAt: 2019-04-13 07:14:22 -0400 (Sat, 13 Apr 2019) |
| EllapsedTime: 10.2 seconds |
| RetCode: 0 |
| Status: OK |
| PackageFile: erccdashboard_1.16.1.zip |
| PackageFileSize: 2.167 MiB |
##############################################################################
##############################################################################
###
### Running command:
###
### rm -rf erccdashboard.buildbin-libdir && mkdir erccdashboard.buildbin-libdir && C:\Users\biocbuild\bbs-3.8-bioc\R\bin\R.exe CMD INSTALL --merge-multiarch --build --library=erccdashboard.buildbin-libdir erccdashboard_1.16.1.tar.gz
###
##############################################################################
##############################################################################
install for i386
* installing *source* package 'erccdashboard' ...
** R
** data
*** moving datasets to lazyload DB
** inst
** byte-compile and prepare package for lazy loading
** help
*** installing help indices
converting help for package 'erccdashboard'
finding HTML links ... done
ERCC html
ERCCDef html
ERCCMix1and2 html
MET.CTL.countDat html
MET.CTL.totalReads html
SEQC.Example html
UHRR.HBRR.arrayDat html
UHRR.HBRR.countDat html
UHRR.HBRR.totalReads html
annotLODR html
dynRangePlot html
erccROC html
estLODR html
est_r_m html
geneExprTest html
initDat html
maSignal html
runDashboard html
saveERCCPlots html
** building package indices
** installing vignettes
** testing if installed package can be loaded
In R CMD INSTALL
install for x64
* installing *source* package 'erccdashboard' ...
** testing if installed package can be loaded
* MD5 sums
packaged installation of 'erccdashboard' as erccdashboard_1.16.1.zip
* DONE (erccdashboard)
In R CMD INSTALL
In R CMD INSTALL