| Back to Multiple platform build/check report for BioC 3.8 | 
 | 
This page was generated on 2019-04-16 11:59:36 -0400 (Tue, 16 Apr 2019).
| Package 483/1649 | Hostname | OS / Arch | INSTALL | BUILD | CHECK | BUILD BIN | ||||||
| epivizrServer 1.10.0 Hector Corrada Bravo 
 | malbec1 | Linux (Ubuntu 16.04.6 LTS) / x86_64 | OK | OK | OK |  | ||||||
| merida1 | OS X 10.11.6 El Capitan / x86_64 | OK | [ OK ] | OK | OK |  | 
| Package: epivizrServer | 
| Version: 1.10.0 | 
| Command: /Library/Frameworks/R.framework/Versions/Current/Resources/bin/R CMD build --keep-empty-dirs --no-resave-data epivizrServer | 
| StartedAt: 2019-04-15 20:54:08 -0400 (Mon, 15 Apr 2019) | 
| EndedAt: 2019-04-15 20:54:18 -0400 (Mon, 15 Apr 2019) | 
| EllapsedTime: 9.7 seconds | 
| RetCode: 0 | 
| Status: OK | 
| PackageFile: epivizrServer_1.10.0.tar.gz | 
| PackageFileSize: 231.5 KiB | 
############################################################################## ############################################################################## ### ### Running command: ### ### /Library/Frameworks/R.framework/Versions/Current/Resources/bin/R CMD build --keep-empty-dirs --no-resave-data epivizrServer ### ############################################################################## ############################################################################## * checking for file ‘epivizrServer/DESCRIPTION’ ... OK * preparing ‘epivizrServer’: * checking DESCRIPTION meta-information ... OK * installing the package to build vignettes * creating vignettes ... OK * checking for LF line-endings in source and make files and shell scripts * checking for empty or unneeded directories * building ‘epivizrServer_1.10.0.tar.gz’