| Back to Multiple platform build/check report for BioC 3.8 | 
 | 
This page was generated on 2019-04-16 11:59:36 -0400 (Tue, 16 Apr 2019).
| Package 483/1649 | Hostname | OS / Arch | INSTALL | BUILD | CHECK | BUILD BIN | ||||||
| epivizrServer 1.10.0 Hector Corrada Bravo 
 | malbec1 | Linux (Ubuntu 16.04.6 LTS) / x86_64 | OK | OK | OK |  | ||||||
| merida1 | OS X 10.11.6 El Capitan / x86_64 | OK | OK | OK | [ OK ] |  | 
| Package: epivizrServer | 
| Version: 1.10.0 | 
| Command: rm -rf epivizrServer.buildbin-libdir && mkdir epivizrServer.buildbin-libdir && /Users/biocbuild/BBS/utils/build-universal.sh epivizrServer_1.10.0.tar.gz /Library/Frameworks/R.framework/Versions/Current/Resources/bin/R epivizrServer.buildbin-libdir | 
| StartedAt: 2019-04-16 04:00:53 -0400 (Tue, 16 Apr 2019) | 
| EndedAt: 2019-04-16 04:01:43 -0400 (Tue, 16 Apr 2019) | 
| EllapsedTime: 49.5 seconds | 
| RetCode: 0 | 
| Status: OK | 
| PackageFile: epivizrServer_1.10.0.tgz | 
| PackageFileSize: 397.6 KiB | 
############################################################################## ############################################################################## ### ### Running command: ### ### rm -rf epivizrServer.buildbin-libdir && mkdir epivizrServer.buildbin-libdir && /Users/biocbuild/BBS/utils/build-universal.sh epivizrServer_1.10.0.tar.gz /Library/Frameworks/R.framework/Versions/Current/Resources/bin/R epivizrServer.buildbin-libdir ### ############################################################################## ############################################################################## >>>>>>> >>>>>>> INSTALLATION WITH 'R CMD INSTALL --preclean --no-multiarch --library=epivizrServer.buildbin-libdir epivizrServer_1.10.0.tar.gz' >>>>>>> * installing *source* package ‘epivizrServer’ ... ** R ** inst ** byte-compile and prepare package for lazy loading ** help *** installing help indices ** building package indices ** installing vignettes ** testing if installed package can be loaded * DONE (epivizrServer)