| Back to Multiple platform build/check report for BioC 3.8 |
|
This page was generated on 2019-04-16 11:56:48 -0400 (Tue, 16 Apr 2019).
| Package 404/1649 | Hostname | OS / Arch | INSTALL | BUILD | CHECK | BUILD BIN | ||||||
| dexus 1.22.1 Guenter Klambauer
| malbec1 | Linux (Ubuntu 16.04.6 LTS) / x86_64 | OK | OK | OK | |||||||
| merida1 | OS X 10.11.6 El Capitan / x86_64 | [ OK ] | OK | OK | OK |
| Package: dexus |
| Version: 1.22.1 |
| Command: /Library/Frameworks/R.framework/Versions/Current/Resources/bin/R CMD INSTALL dexus |
| StartedAt: 2019-04-15 18:01:09 -0400 (Mon, 15 Apr 2019) |
| EndedAt: 2019-04-15 18:01:34 -0400 (Mon, 15 Apr 2019) |
| EllapsedTime: 24.2 seconds |
| RetCode: 0 |
| Status: OK |
##############################################################################
##############################################################################
###
### Running command:
###
### /Library/Frameworks/R.framework/Versions/Current/Resources/bin/R CMD INSTALL dexus
###
##############################################################################
##############################################################################
* installing to library ‘/Library/Frameworks/R.framework/Versions/3.5/Resources/library’
* installing *source* package ‘dexus’ ...
** libs
clang++ -I"/Library/Frameworks/R.framework/Resources/include" -DNDEBUG -I/usr/local/include -fPIC -Wall -g -O2 -c dexus.cpp -o dexus.o
dexus.cpp:136:15: warning: equality comparison with extraneous parentheses [-Wparentheses-equality]
if ((innerCyc==maxInnerCyc))
˜˜˜˜˜˜˜˜^˜˜˜˜˜˜˜˜˜˜˜˜
dexus.cpp:136:15: note: remove extraneous parentheses around the comparison to silence this warning
if ((innerCyc==maxInnerCyc))
˜ ^ ˜
dexus.cpp:136:15: note: use '=' to turn this equality comparison into an assignment
if ((innerCyc==maxInnerCyc))
^˜
=
dexus.cpp:193:15: warning: unused variable 'DEFAULT_R' [-Wunused-variable]
const double DEFAULT_R = 20; // R value used when re-setting clusters
^
dexus.cpp:575:15: warning: unused variable 'DEFAULT_R' [-Wunused-variable]
const double DEFAULT_R = 20; // R value used when re-setting clusters
^
3 warnings generated.
clang++ -dynamiclib -Wl,-headerpad_max_install_names -undefined dynamic_lookup -single_module -multiply_defined suppress -L/Library/Frameworks/R.framework/Resources/lib -L/usr/local/lib -o dexus.so dexus.o -F/Library/Frameworks/R.framework/.. -framework R -Wl,-framework -Wl,CoreFoundation
installing to /Library/Frameworks/R.framework/Versions/3.5/Resources/library/dexus/libs
** R
** data
** inst
** byte-compile and prepare package for lazy loading
** help
*** installing help indices
** building package indices
** installing vignettes
** testing if installed package can be loaded
* DONE (dexus)