| Back to Multiple platform build/check report for BioC 3.8 |
|
This page was generated on 2019-04-16 11:49:56 -0400 (Tue, 16 Apr 2019).
| Package 404/1649 | Hostname | OS / Arch | INSTALL | BUILD | CHECK | BUILD BIN | ||||||
| dexus 1.22.1 Guenter Klambauer
| malbec1 | Linux (Ubuntu 16.04.6 LTS) / x86_64 | [ OK ] | OK | OK | |||||||
| merida1 | OS X 10.11.6 El Capitan / x86_64 | OK | OK | OK | OK |
| Package: dexus |
| Version: 1.22.1 |
| Command: /home/biocbuild/bbs-3.8-bioc/R/bin/R CMD INSTALL dexus |
| StartedAt: 2019-04-15 17:58:06 -0400 (Mon, 15 Apr 2019) |
| EndedAt: 2019-04-15 17:58:11 -0400 (Mon, 15 Apr 2019) |
| EllapsedTime: 4.7 seconds |
| RetCode: 0 |
| Status: OK |
##############################################################################
##############################################################################
###
### Running command:
###
### /home/biocbuild/bbs-3.8-bioc/R/bin/R CMD INSTALL dexus
###
##############################################################################
##############################################################################
* installing to library ‘/home/biocbuild/bbs-3.8-bioc/R/library’
* installing *source* package ‘dexus’ ...
** libs
g++ -I"/home/biocbuild/bbs-3.8-bioc/R/include" -DNDEBUG -I/usr/local/include -fpic -g -O2 -Wall -c dexus.cpp -o dexus.o
dexus.cpp: In function ‘SEXPREC* dexus_impl(SEXP, SEXP, SEXP, SEXP, SEXP, SEXP, SEXP, SEXP, SEXP, SEXP, int*, SEXP, SEXP, SEXP)’:
dexus.cpp:193:15: warning: unused variable ‘DEFAULT_R’ [-Wunused-variable]
const double DEFAULT_R = 20; // R value used when re-setting clusters
^
dexus.cpp: In function ‘SEXPREC* dexss_impl(SEXP, SEXP, SEXP, SEXP, SEXP, SEXP, SEXP, SEXP, SEXP, SEXP, int*, SEXP, SEXP, SEXP)’:
dexus.cpp:575:15: warning: unused variable ‘DEFAULT_R’ [-Wunused-variable]
const double DEFAULT_R = 20; // R value used when re-setting clusters
^
g++ -shared -L/home/biocbuild/bbs-3.8-bioc/R/lib -L/usr/local/lib -o dexus.so dexus.o -L/home/biocbuild/bbs-3.8-bioc/R/lib -lR
installing to /home/biocbuild/bbs-3.8-bioc/R/library/dexus/libs
** R
** data
** inst
** byte-compile and prepare package for lazy loading
** help
*** installing help indices
** building package indices
** installing vignettes
** testing if installed package can be loaded
* DONE (dexus)