| Back to Multiple platform build/check report for BioC 3.8 | 
 | 
This page was generated on 2019-04-16 11:59:49 -0400 (Tue, 16 Apr 2019).
| Package 355/1649 | Hostname | OS / Arch | INSTALL | BUILD | CHECK | BUILD BIN | ||||||
| ctsGE 1.8.1 Michal Sharabi-Schwager 
 | malbec1 | Linux (Ubuntu 16.04.6 LTS) / x86_64 | OK | OK | OK |  | ||||||
| merida1 | OS X 10.11.6 El Capitan / x86_64 | OK | [ OK ] | OK | OK |  | 
| Package: ctsGE | 
| Version: 1.8.1 | 
| Command: /Library/Frameworks/R.framework/Versions/Current/Resources/bin/R CMD build --keep-empty-dirs --no-resave-data ctsGE | 
| StartedAt: 2019-04-15 21:00:39 -0400 (Mon, 15 Apr 2019) | 
| EndedAt: 2019-04-15 21:01:06 -0400 (Mon, 15 Apr 2019) | 
| EllapsedTime: 26.5 seconds | 
| RetCode: 0 | 
| Status: OK | 
| PackageFile: ctsGE_1.8.1.tar.gz | 
| PackageFileSize: 1.243 MiB | 
##############################################################################
##############################################################################
###
### Running command:
###
###   /Library/Frameworks/R.framework/Versions/Current/Resources/bin/R CMD build --keep-empty-dirs --no-resave-data ctsGE
###
##############################################################################
##############################################################################
* checking for file ‘ctsGE/DESCRIPTION’ ... OK
* preparing ‘ctsGE’:
* checking DESCRIPTION meta-information ... OK
* installing the package to build vignettes
* creating vignettes ... OK
Warning: ‘inst/doc’ file
    ‘ctsGE.html’
  ignored as vignettes have been rebuilt.
  Run R CMD build with --no-build-vignettes to prevent rebuilding.
* checking for LF line-endings in source and make files and shell scripts
* checking for empty or unneeded directories
* building ‘ctsGE_1.8.1.tar.gz’