| Back to Multiple platform build/check report for BioC 3.8 | 
  | 
This page was generated on 2019-04-16 11:59:49 -0400 (Tue, 16 Apr 2019).
| Package 355/1649 | Hostname | OS / Arch | INSTALL | BUILD | CHECK | BUILD BIN | ||||||
| ctsGE 1.8.1 Michal Sharabi-Schwager 
  | malbec1 | Linux (Ubuntu 16.04.6 LTS) / x86_64 | OK | OK | OK | |||||||
| merida1 | OS X 10.11.6 El Capitan / x86_64 | OK | OK | OK | [ OK ] | 
| Package: ctsGE | 
| Version: 1.8.1 | 
| Command: rm -rf ctsGE.buildbin-libdir && mkdir ctsGE.buildbin-libdir && /Users/biocbuild/BBS/utils/build-universal.sh ctsGE_1.8.1.tar.gz /Library/Frameworks/R.framework/Versions/Current/Resources/bin/R ctsGE.buildbin-libdir | 
| StartedAt: 2019-04-16 03:54:47 -0400 (Tue, 16 Apr 2019) | 
| EndedAt: 2019-04-16 03:55:30 -0400 (Tue, 16 Apr 2019) | 
| EllapsedTime: 43.7 seconds | 
| RetCode: 0 | 
| Status: OK | 
| PackageFile: ctsGE_1.8.1.tgz | 
| PackageFileSize: 1.281 MiB | 
############################################################################## ############################################################################## ### ### Running command: ### ### rm -rf ctsGE.buildbin-libdir && mkdir ctsGE.buildbin-libdir && /Users/biocbuild/BBS/utils/build-universal.sh ctsGE_1.8.1.tar.gz /Library/Frameworks/R.framework/Versions/Current/Resources/bin/R ctsGE.buildbin-libdir ### ############################################################################## ############################################################################## >>>>>>> >>>>>>> INSTALLATION WITH 'R CMD INSTALL --preclean --no-multiarch --library=ctsGE.buildbin-libdir ctsGE_1.8.1.tar.gz' >>>>>>> * installing *source* package ‘ctsGE’ ... ** R ** inst ** byte-compile and prepare package for lazy loading ** help *** installing help indices ** building package indices ** installing vignettes ** testing if installed package can be loaded * DONE (ctsGE)