| Back to Multiple platform build/check report for BioC 3.8 |
|
This page was generated on 2019-04-13 11:19:10 -0400 (Sat, 13 Apr 2019).
| Package 352/1649 | Hostname | OS / Arch | INSTALL | BUILD | CHECK | BUILD BIN | ||||||
| ctc 1.56.0 Antoine Lucas
| malbec1 | Linux (Ubuntu 16.04.6 LTS) / x86_64 | OK | OK | OK | |||||||
| tokay1 | Windows Server 2012 R2 Standard / x64 | OK | OK | OK | [ OK ] | |||||||
| merida1 | OS X 10.11.6 El Capitan / x86_64 | OK | OK | OK | OK |
| Package: ctc |
| Version: 1.56.0 |
| Command: rm -rf ctc.buildbin-libdir && mkdir ctc.buildbin-libdir && C:\Users\biocbuild\bbs-3.8-bioc\R\bin\R.exe CMD INSTALL --merge-multiarch --build --library=ctc.buildbin-libdir ctc_1.56.0.tar.gz |
| StartedAt: 2019-04-13 07:08:08 -0400 (Sat, 13 Apr 2019) |
| EndedAt: 2019-04-13 07:08:17 -0400 (Sat, 13 Apr 2019) |
| EllapsedTime: 8.5 seconds |
| RetCode: 0 |
| Status: OK |
| PackageFile: ctc_1.56.0.zip |
| PackageFileSize: 229.9 KiB |
##############################################################################
##############################################################################
###
### Running command:
###
### rm -rf ctc.buildbin-libdir && mkdir ctc.buildbin-libdir && C:\Users\biocbuild\bbs-3.8-bioc\R\bin\R.exe CMD INSTALL --merge-multiarch --build --library=ctc.buildbin-libdir ctc_1.56.0.tar.gz
###
##############################################################################
##############################################################################
install for i386
* installing *source* package 'ctc' ...
** R
** demo
** exec
** inst
** byte-compile and prepare package for lazy loading
** help
*** installing help indices
converting help for package 'ctc'
finding HTML links ... done
hc2Newick html
hclust2treeview html
r2cluster html
r2gtr html
r2xcluster html
read.eisen html
xcluster html
xcluster2r html
** building package indices
** installing vignettes
** testing if installed package can be loaded
In R CMD INSTALL
install for x64
* installing *source* package 'ctc' ...
** testing if installed package can be loaded
* MD5 sums
packaged installation of 'ctc' as ctc_1.56.0.zip
* DONE (ctc)
In R CMD INSTALL
In R CMD INSTALL